BEGIN:VCALENDAR
VERSION:2.0
PRODID:-//RCCG Mount Zion Parish, Regina Saskatchewan, Canada - ECPv6.15.20//NONSGML v1.0//EN
CALSCALE:GREGORIAN
METHOD:PUBLISH
X-ORIGINAL-URL:https://rccgregina.org
X-WR-CALDESC:Events for RCCG Mount Zion Parish, Regina Saskatchewan, Canada
REFRESH-INTERVAL;VALUE=DURATION:PT1H
X-Robots-Tag:noindex
X-PUBLISHED-TTL:PT1H
BEGIN:VTIMEZONE
TZID:America/Regina
BEGIN:STANDARD
TZOFFSETFROM:-0600
TZOFFSETTO:-0600
TZNAME:CST
DTSTART:20240101T000000
END:STANDARD
END:VTIMEZONE
BEGIN:VEVENT
DTSTART;TZID=America/Regina:20250816T120000
DTEND;TZID=America/Regina:20250816T170000
DTSTAMP:20260424T050528
CREATED:20250724T071546Z
LAST-MODIFIED:20250724T071927Z
UID:11335-1755345600-1755363600@rccgregina.org
SUMMARY:Church Barbeque & Fun Day
DESCRIPTION:Join Us for Our Church BBQ & Fun Day! 🍔⚽ \nCome enjoy a day filled with food\, fellowship\, and fun!🔥 BBQ Feast⚽ Men vs Youth Soccer Match🏃‍♀️ Women & Youth Race🎯 Games for All Ages \nBring your family and friends — let’s make memories together!
URL:https://rccgregina.org/event/church-barbeque-fun-day/
LOCATION:Church Auditorium\, 1171 Broder St\, REGINA\, SK\, S4N 3R1\, Canada
ATTACH;FMTTYPE=image/jpeg:https://rccgregina.org/wp-content/uploads/2025/07/bbq.jpg
END:VEVENT
END:VCALENDAR