BEGIN:VCALENDAR
VERSION:2.0
PRODID:-//RCCG Mount Zion Parish, Regina Saskatchewan, Canada - ECPv6.15.20//NONSGML v1.0//EN
CALSCALE:GREGORIAN
METHOD:PUBLISH
X-ORIGINAL-URL:https://rccgregina.org
X-WR-CALDESC:Events for RCCG Mount Zion Parish, Regina Saskatchewan, Canada
REFRESH-INTERVAL;VALUE=DURATION:PT1H
X-Robots-Tag:noindex
X-PUBLISHED-TTL:PT1H
BEGIN:VTIMEZONE
TZID:America/Regina
BEGIN:STANDARD
TZOFFSETFROM:-0600
TZOFFSETTO:-0600
TZNAME:CST
DTSTART:20240101T000000
END:STANDARD
END:VTIMEZONE
BEGIN:VEVENT
DTSTART;TZID=America/Regina:20250831T090000
DTEND;TZID=America/Regina:20250831T123000
DTSTAMP:20260424T050527
CREATED:20250713T064645Z
LAST-MODIFIED:20250730T043917Z
UID:11328-1756630800-1756643400@rccgregina.org
SUMMARY:Family Sunday
DESCRIPTION:Join us this Sunday for Family Sunday. Family Sunday is a special service where families take the lead in every part of worship. From praise and worship to announcements\, scripture reading\, and even the sermon\, different families come together to serve and minister as one body. It’s a beautiful celebration of unity\, love\, and generational faith—showing that church isn’t just a place we go\, but a family we grow in together.
URL:https://rccgregina.org/event/sunday-service-18/
LOCATION:Church Auditorium\, 1171 Broder St\, REGINA\, SK\, S4N 3R1\, Canada
CATEGORIES:ministry
ATTACH;FMTTYPE=image/png:https://rccgregina.org/wp-content/uploads/2025/07/Public-Annual-Lecture.png
END:VEVENT
END:VCALENDAR