BEGIN:VCALENDAR
VERSION:2.0
PRODID:-//RCCG Mount Zion Parish, Regina Saskatchewan, Canada - ECPv6.15.20//NONSGML v1.0//EN
CALSCALE:GREGORIAN
METHOD:PUBLISH
X-WR-CALNAME:RCCG Mount Zion Parish, Regina Saskatchewan, Canada
X-ORIGINAL-URL:https://rccgregina.org
X-WR-CALDESC:Events for RCCG Mount Zion Parish, Regina Saskatchewan, Canada
REFRESH-INTERVAL;VALUE=DURATION:PT1H
X-Robots-Tag:noindex
X-PUBLISHED-TTL:PT1H
BEGIN:VTIMEZONE
TZID:America/Regina
BEGIN:STANDARD
TZOFFSETFROM:-0600
TZOFFSETTO:-0600
TZNAME:CST
DTSTART:20240101T000000
END:STANDARD
END:VTIMEZONE
BEGIN:VEVENT
DTSTART;TZID=America/Regina:20250928T090000
DTEND;TZID=America/Regina:20250928T123000
DTSTAMP:20260424T032833
CREATED:20250820T024021Z
LAST-MODIFIED:20250820T024021Z
UID:11393-1759050000-1759062600@rccgregina.org
SUMMARY:Sunday Service
DESCRIPTION:Join us this Sunday for a time of worship\, uplifting messages\, and fellowship. Let’s grow together in faith and experience God’s love in a fresh way. All are welcome!
URL:https://rccgregina.org/event/sunday-service-20/
LOCATION:Church Auditorium\, 1171 Broder St\, REGINA\, SK\, S4N 3R1\, Canada
CATEGORIES:ministry
ATTACH;FMTTYPE=image/png:https://rccgregina.org/wp-content/uploads/2025/06/Sunday-Service.png
END:VEVENT
END:VCALENDAR