BEGIN:VCALENDAR
VERSION:2.0
PRODID:-//RCCG Mount Zion Parish, Regina Saskatchewan, Canada - ECPv6.15.20//NONSGML v1.0//EN
CALSCALE:GREGORIAN
METHOD:PUBLISH
X-ORIGINAL-URL:https://rccgregina.org
X-WR-CALDESC:Events for RCCG Mount Zion Parish, Regina Saskatchewan, Canada
REFRESH-INTERVAL;VALUE=DURATION:PT1H
X-Robots-Tag:noindex
X-PUBLISHED-TTL:PT1H
BEGIN:VTIMEZONE
TZID:America/Regina
BEGIN:STANDARD
TZOFFSETFROM:-0600
TZOFFSETTO:-0600
TZNAME:CST
DTSTART:20240101T000000
END:STANDARD
END:VTIMEZONE
BEGIN:VEVENT
DTSTART;TZID=America/Regina:20251108T090000
DTEND;TZID=America/Regina:20251108T120000
DTSTAMP:20260424T003214
CREATED:20251106T001554Z
LAST-MODIFIED:20251106T001554Z
UID:11481-1762592400-1762603200@rccgregina.org
SUMMARY:In His Presence
DESCRIPTION:Join us for a powerful encounter at our special program titled “In His Presence.”\nIt’s a time to dwell under the shadow of the Almighty\, experience divine protection\, and be refreshed in God’s glory. \n📖 “He who dwells in the secret place of the Most High shall abide under the shadow of the Almighty.” — Psalm 91:1 \nCome and be blessed as we gather to worship\, pray\, and draw closer to God. \nAll are warmly welcome!
URL:https://rccgregina.org/event/in-his-presence/
LOCATION:SK
ATTACH;FMTTYPE=image/jpeg:https://rccgregina.org/wp-content/uploads/2025/11/sUNDAY-sEERVICE-00.jpg
END:VEVENT
END:VCALENDAR