BEGIN:VCALENDAR
VERSION:2.0
PRODID:-//RCCG Mount Zion Parish, Regina Saskatchewan, Canada - ECPv6.15.20//NONSGML v1.0//EN
CALSCALE:GREGORIAN
METHOD:PUBLISH
X-WR-CALNAME:RCCG Mount Zion Parish, Regina Saskatchewan, Canada
X-ORIGINAL-URL:https://rccgregina.org
X-WR-CALDESC:Events for RCCG Mount Zion Parish, Regina Saskatchewan, Canada
REFRESH-INTERVAL;VALUE=DURATION:PT1H
X-Robots-Tag:noindex
X-PUBLISHED-TTL:PT1H
BEGIN:VTIMEZONE
TZID:America/Regina
BEGIN:STANDARD
TZOFFSETFROM:-0600
TZOFFSETTO:-0600
TZNAME:CST
DTSTART:20240101T000000
END:STANDARD
END:VTIMEZONE
BEGIN:VEVENT
DTSTART;TZID=America/Regina:20251112T193000
DTEND;TZID=America/Regina:20251112T210000
DTSTAMP:20260424T003119
CREATED:20251019T175946Z
LAST-MODIFIED:20251019T194747Z
UID:11441-1762975800-1762981200@rccgregina.org
SUMMARY:Bible Study!
DESCRIPTION:📖 Join Us for Bible Study! \nCome gather with us as we explore the Word\, grow in faith\, and share in fellowship. Whether you’re new to scripture or a seasoned reader\, there’s a seat for you. \n🕖 Time: 7:30pm \nLet’s journey together through God’s truth and encouragement. Hope to see you there!
URL:https://rccgregina.org/event/bible-study-14/
LOCATION:Church Auditorium\, 1171 Broder St\, REGINA\, SK\, S4N 3R1\, Canada
ATTACH;FMTTYPE=image/jpeg:https://rccgregina.org/wp-content/uploads/2024/12/bible-study-e1734657902949.jpg
END:VEVENT
END:VCALENDAR