BEGIN:VCALENDAR
VERSION:2.0
PRODID:-//RCCG Mount Zion Parish, Regina Saskatchewan, Canada - ECPv6.15.20//NONSGML v1.0//EN
CALSCALE:GREGORIAN
METHOD:PUBLISH
X-ORIGINAL-URL:https://rccgregina.org
X-WR-CALDESC:Events for RCCG Mount Zion Parish, Regina Saskatchewan, Canada
REFRESH-INTERVAL;VALUE=DURATION:PT1H
X-Robots-Tag:noindex
X-PUBLISHED-TTL:PT1H
BEGIN:VTIMEZONE
TZID:America/Regina
BEGIN:STANDARD
TZOFFSETFROM:-0600
TZOFFSETTO:-0600
TZNAME:CST
DTSTART:20250101T000000
END:STANDARD
END:VTIMEZONE
BEGIN:VEVENT
DTSTART;TZID=America/Regina:20260520T193000
DTEND;TZID=America/Regina:20260520T210000
DTSTAMP:20260423T180905
CREATED:20260205T143622Z
LAST-MODIFIED:20260422T050223Z
UID:11578-1779305400-1779310800@rccgregina.org
SUMMARY:Bible Study
DESCRIPTION:Join us for an inspiring journey through God’s Word! Together\, we’ll explore life-changing truths\, find answers to pressing questions\, and deepen our relationship with Christ. Don’t miss this time of growth and fellowship!.
URL:https://rccgregina.org/event/bible-study-19/
LOCATION:Church Auditorium\, 1171 Broder St\, REGINA\, SK\, S4N 3R1\, Canada
ATTACH;FMTTYPE=image/jpeg:https://rccgregina.org/wp-content/uploads/2024/12/bible-study-e1734657902949.jpg
END:VEVENT
END:VCALENDAR