BEGIN:VCALENDAR
VERSION:2.0
PRODID:-//RCCG Mount Zion Parish, Regina Saskatchewan, Canada - ECPv6.15.20//NONSGML v1.0//EN
CALSCALE:GREGORIAN
METHOD:PUBLISH
X-WR-CALNAME:RCCG Mount Zion Parish, Regina Saskatchewan, Canada
X-ORIGINAL-URL:https://rccgregina.org
X-WR-CALDESC:Events for RCCG Mount Zion Parish, Regina Saskatchewan, Canada
REFRESH-INTERVAL;VALUE=DURATION:PT1H
X-Robots-Tag:noindex
X-PUBLISHED-TTL:PT1H
BEGIN:VTIMEZONE
TZID:America/Regina
BEGIN:STANDARD
TZOFFSETFROM:-0600
TZOFFSETTO:-0600
TZNAME:CST
DTSTART:20240101T000000
END:STANDARD
END:VTIMEZONE
BEGIN:VEVENT
DTSTART;TZID=America/Regina:20251109T090000
DTEND;TZID=America/Regina:20251109T123000
DTSTAMP:20260423T214610
CREATED:20251019T194523Z
LAST-MODIFIED:20251019T194751Z
UID:11439-1762678800-1762691400@rccgregina.org
SUMMARY:Sunday Service
DESCRIPTION:We’d love to see you this Sunday! Come worship with us\, hear a timely message\, and experience the warmth of fellowship in God’s presence.
URL:https://rccgregina.org/event/sunday-service-24/
LOCATION:Church Auditorium\, 1171 Broder St\, REGINA\, SK\, S4N 3R1\, Canada
CATEGORIES:ministry
ATTACH;FMTTYPE=image/png:https://rccgregina.org/wp-content/uploads/2025/06/Sunday-Service.png
END:VEVENT
BEGIN:VEVENT
DTSTART;TZID=America/Regina:20251116T090000
DTEND;TZID=America/Regina:20251116T123000
DTSTAMP:20260423T214610
CREATED:20251019T195236Z
LAST-MODIFIED:20251019T200347Z
UID:11444-1763283600-1763296200@rccgregina.org
SUMMARY:Sunday Service
DESCRIPTION:Be our guest this Sunday! Come and experience God’s love\, hope\, and peace in a welcoming atmosphere filled with praise and encouragement.
URL:https://rccgregina.org/event/sunday-service-25/
LOCATION:Church Auditorium\, 1171 Broder St\, REGINA\, SK\, S4N 3R1\, Canada
CATEGORIES:ministry
ATTACH;FMTTYPE=image/png:https://rccgregina.org/wp-content/uploads/2025/06/Sunday-Service.png
END:VEVENT
BEGIN:VEVENT
DTSTART;TZID=America/Regina:20251123T090000
DTEND;TZID=America/Regina:20251123T123000
DTSTAMP:20260423T214610
CREATED:20251021T173322Z
LAST-MODIFIED:20251021T184315Z
UID:11458-1763888400-1763901000@rccgregina.org
SUMMARY:Sunday Service
DESCRIPTION:Start your week with joy and inspiration! Join us this Sunday for dynamic worship and an empowering message that will lift your spirit. \n🕘 Time: 9:00 AM\n📍 Location: 1171 Broder St\, Regina\, SK \nCome expectant — God is set to do great things!
URL:https://rccgregina.org/event/sunday-service-26/
LOCATION:Church Auditorium\, 1171 Broder St\, REGINA\, SK\, S4N 3R1\, Canada
CATEGORIES:ministry
ATTACH;FMTTYPE=image/jpeg:https://rccgregina.org/wp-content/uploads/2025/10/sUNdAY-sERviCe-03.jpg
END:VEVENT
BEGIN:VEVENT
DTSTART;TZID=America/Regina:20251130T090000
DTEND;TZID=America/Regina:20251130T123000
DTSTAMP:20260423T214610
CREATED:20251021T184445Z
LAST-MODIFIED:20251021T184636Z
UID:11471-1764493200-1764505800@rccgregina.org
SUMMARY:Sunday Service
DESCRIPTION:Let’s worship together this Sunday! Come and be refreshed\, encouraged\, and filled with God’s peace as we gather in His presence. \n🕘 Time: 9:00 AM\n📍 Location: 1171 Broder St\, Regina\, SK \nCome expectant — God is set to do great things!
URL:https://rccgregina.org/event/sunday-service-27/
LOCATION:Church Auditorium\, 1171 Broder St\, REGINA\, SK\, S4N 3R1\, Canada
CATEGORIES:ministry
ATTACH;FMTTYPE=image/jpeg:https://rccgregina.org/wp-content/uploads/2025/10/SUNDAY-sERvice-02.jpg
END:VEVENT
END:VCALENDAR