BEGIN:VCALENDAR
VERSION:2.0
PRODID:-//RCCG Mount Zion Parish, Regina Saskatchewan, Canada - ECPv6.15.20//NONSGML v1.0//EN
CALSCALE:GREGORIAN
METHOD:PUBLISH
X-WR-CALNAME:RCCG Mount Zion Parish, Regina Saskatchewan, Canada
X-ORIGINAL-URL:https://rccgregina.org
X-WR-CALDESC:Events for RCCG Mount Zion Parish, Regina Saskatchewan, Canada
REFRESH-INTERVAL;VALUE=DURATION:PT1H
X-Robots-Tag:noindex
X-PUBLISHED-TTL:PT1H
BEGIN:VTIMEZONE
TZID:America/Regina
BEGIN:STANDARD
TZOFFSETFROM:-0600
TZOFFSETTO:-0600
TZNAME:CST
DTSTART:20240101T000000
END:STANDARD
END:VTIMEZONE
BEGIN:VEVENT
DTSTART;TZID=America/Regina:20250829T190000
DTEND;TZID=America/Regina:20250829T210000
DTSTAMP:20260424T064148
CREATED:20250729T053623Z
LAST-MODIFIED:20250803T065032Z
UID:11345-1756494000-1756501200@rccgregina.org
SUMMARY:Choir Musical Concert
DESCRIPTION:Join us for a powerful night of praise\, worship\, and musical excellence at our Choir Musical Concert! Come experience the beauty of voices lifted in harmony as our choir ministers songs that stir the soul and glorify God. Whether you’re a music lover\, worshipper\, or just curious—this is an evening you won’t want to miss. \nCome\, be blessed\, and let your spirit be lifted through song!
URL:https://rccgregina.org/event/choir-musical-concert/
LOCATION:Church Auditorium\, 1171 Broder St\, REGINA\, SK\, S4N 3R1\, Canada
CATEGORIES:ministry
ATTACH;FMTTYPE=image/jpeg:https://rccgregina.org/wp-content/uploads/2025/07/Concert.jpg
END:VEVENT
END:VCALENDAR