BEGIN:VCALENDAR
VERSION:2.0
PRODID:-//RCCG Mount Zion Parish, Regina Saskatchewan, Canada - ECPv6.15.20//NONSGML v1.0//EN
CALSCALE:GREGORIAN
METHOD:PUBLISH
X-WR-CALNAME:RCCG Mount Zion Parish, Regina Saskatchewan, Canada
X-ORIGINAL-URL:https://rccgregina.org
X-WR-CALDESC:Events for RCCG Mount Zion Parish, Regina Saskatchewan, Canada
REFRESH-INTERVAL;VALUE=DURATION:PT1H
X-Robots-Tag:noindex
X-PUBLISHED-TTL:PT1H
BEGIN:VTIMEZONE
TZID:America/Regina
BEGIN:STANDARD
TZOFFSETFROM:-0600
TZOFFSETTO:-0600
TZNAME:CST
DTSTART:20150101T000000
END:STANDARD
END:VTIMEZONE
BEGIN:VEVENT
DTSTART;TZID=America/Regina:20250530T183000
DTEND;TZID=America/Regina:20250530T210000
DTSTAMP:20260423T165147
CREATED:20250512T222008Z
LAST-MODIFIED:20250513T033721Z
UID:11146-1748629800-1748638800@rccgregina.org
SUMMARY:Divine Empowerment (Encounter Hour)
DESCRIPTION:Join us for Day 1 of Divine Empowerment!Experience powerful worship\, life-transforming messages\, and a fresh encounter with God. Don’t miss this divine appointment—your breakthrough starts here!
URL:https://rccgregina.org/event/divine-empowerment-day-1/
LOCATION:Church Auditorium\, 1171 Broder St\, REGINA\, SK\, S4N 3R1\, Canada
CATEGORIES:ministry
ATTACH;FMTTYPE=image/jpeg:https://rccgregina.org/wp-content/uploads/2024/11/475012590_998337002318625_3189939558973346722_n.jpg
END:VEVENT
BEGIN:VEVENT
DTSTART;TZID=America/Regina:20250525T090000
DTEND;TZID=America/Regina:20250525T123000
DTSTAMP:20260423T165147
CREATED:20250429T020539Z
LAST-MODIFIED:20250429T020539Z
UID:11121-1748163600-1748176200@rccgregina.org
SUMMARY:Sunday Service
DESCRIPTION:Join us this Sunday for a time of worship\, uplifting messages\, and fellowship. Let’s grow together in faith and experience God’s love in a fresh way. All are welcome!
URL:https://rccgregina.org/event/sunday-service-9/
LOCATION:Church Auditorium\, 1171 Broder St\, REGINA\, SK\, S4N 3R1\, Canada
CATEGORIES:ministry
ATTACH;FMTTYPE=image/png:https://rccgregina.org/wp-content/uploads/2025/04/SundayService.png
END:VEVENT
BEGIN:VEVENT
DTSTART;TZID=America/Regina:20250518T090000
DTEND;TZID=America/Regina:20250518T123000
DTSTAMP:20260423T165147
CREATED:20250223T035848Z
LAST-MODIFIED:20250429T024032Z
UID:10977-1747558800-1747571400@rccgregina.org
SUMMARY:Sunday Service
DESCRIPTION:Join us this Sunday for a time of worship\, uplifting messages\, and fellowship. Let’s grow together in faith and experience God’s love in a fresh way. All are welcome!
URL:https://rccgregina.org/event/sunday-service-6/
LOCATION:Church Auditorium\, 1171 Broder St\, REGINA\, SK\, S4N 3R1\, Canada
CATEGORIES:ministry
ATTACH;FMTTYPE=image/jpeg:https://rccgregina.org/wp-content/uploads/2023/10/church5b.jpg
END:VEVENT
BEGIN:VEVENT
DTSTART;TZID=America/Regina:20250323T090000
DTEND;TZID=America/Regina:20250323T123000
DTSTAMP:20260423T165147
CREATED:20241220T014515Z
LAST-MODIFIED:20250223T035620Z
UID:10676-1742720400-1742733000@rccgregina.org
SUMMARY:Sunday Service
DESCRIPTION:Join us this Sunday for a time of worship\, uplifting messages\, and fellowship. Let’s grow together in faith and experience God’s love in a fresh way. All are welcome!
URL:https://rccgregina.org/event/sunday-service-3/
LOCATION:Church Auditorium\, 1171 Broder St\, REGINA\, SK\, S4N 3R1\, Canada
CATEGORIES:ministry
ATTACH;FMTTYPE=image/jpeg:https://rccgregina.org/wp-content/uploads/2023/10/church5b.jpg
END:VEVENT
BEGIN:VEVENT
DTSTART;TZID=America/Regina:20250316T090000
DTEND;TZID=America/Regina:20250316T123000
DTSTAMP:20260423T165147
CREATED:20250223T034813Z
LAST-MODIFIED:20250223T034813Z
UID:10978-1742115600-1742128200@rccgregina.org
SUMMARY:Sunday Service
DESCRIPTION:Join us this Sunday for a powerful time of worship\, prayer\, and inspiring messages. Experience uplifting music\, biblical teachings\, and a welcoming community.
URL:https://rccgregina.org/event/sunday-service-5/
LOCATION:Church Auditorium\, 1171 Broder St\, REGINA\, SK\, S4N 3R1\, Canada
CATEGORIES:ministry
ATTACH;FMTTYPE=image/jpeg:https://rccgregina.org/wp-content/uploads/2024/11/475012590_998337002318625_3189939558973346722_n.jpg
END:VEVENT
BEGIN:VEVENT
DTSTART;TZID=America/Regina:20250309T090000
DTEND;TZID=America/Regina:20250309T123000
DTSTAMP:20260423T165147
CREATED:20241113T040708Z
LAST-MODIFIED:20250223T034519Z
UID:10315-1741510800-1741523400@rccgregina.org
SUMMARY:Sunday Service
DESCRIPTION:Join us this Sunday for a powerful time of worship\, prayer\, and inspiring messages. Experience uplifting music\, biblical teachings\, and a welcoming community.
URL:https://rccgregina.org/event/sunday-service-2/
LOCATION:Church Auditorium\, 1171 Broder St\, REGINA\, SK\, S4N 3R1\, Canada
CATEGORIES:ministry
ATTACH;FMTTYPE=image/jpeg:https://rccgregina.org/wp-content/uploads/2024/11/475012590_998337002318625_3189939558973346722_n.jpg
END:VEVENT
BEGIN:VEVENT
DTSTART;TZID=America/Regina:20250209T093000
DTEND;TZID=America/Regina:20250209T120000
DTSTAMP:20260423T165147
CREATED:20250201T075338Z
LAST-MODIFIED:20250201T075338Z
UID:10889-1739093400-1739102400@rccgregina.org
SUMMARY:Special Valentine’s Celebration
DESCRIPTION:Come and be blessed as we explore biblical principles of love and leadership in relationships. Don’t miss this inspiring event!
URL:https://rccgregina.org/event/special-valentines-celebration/
LOCATION:Church Auditorium\, 1171 Broder St\, REGINA\, SK\, S4N 3R1\, Canada
CATEGORIES:ministry
ATTACH;FMTTYPE=image/jpeg:https://rccgregina.org/wp-content/uploads/2024/12/WhatsApp-Image-2025-01-29-at-5.57.29-PM.jpeg
END:VEVENT
BEGIN:VEVENT
DTSTART;TZID=America/Regina:20250112T090000
DTEND;TZID=America/Regina:20250112T123000
DTSTAMP:20260423T165147
CREATED:20231003T063957Z
LAST-MODIFIED:20241218T045644Z
UID:9665-1736672400-1736685000@rccgregina.org
SUMMARY:Sunday Service
DESCRIPTION:
URL:https://rccgregina.org/event/celebration-sunday-service/
LOCATION:Church Auditorium\, 1171 Broder St\, REGINA\, SK\, S4N 3R1\, Canada
CATEGORIES:ministry
ATTACH;FMTTYPE=image/jpeg:https://rccgregina.org/wp-content/uploads/2023/10/church2-e1696307103161.jpg
END:VEVENT
BEGIN:VEVENT
DTSTART;TZID=America/Regina:20250101T193000
DTEND;TZID=America/Regina:20250101T210000
DTSTAMP:20260423T165147
CREATED:20241218T050646Z
LAST-MODIFIED:20241218T050647Z
UID:10635-1735759800-1735765200@rccgregina.org
SUMMARY:Holy Communion Service
DESCRIPTION:
URL:https://rccgregina.org/event/holy-communion-service-2/
LOCATION:Church Auditorium\, 1171 Broder St\, REGINA\, SK\, S4N 3R1\, Canada
CATEGORIES:ministry
ATTACH;FMTTYPE=image/jpeg:https://rccgregina.org/wp-content/uploads/2024/12/HolyCommunion@0.3x.jpg
END:VEVENT
BEGIN:VEVENT
DTSTART;TZID=America/Regina:20241231T213000
DTEND;TZID=America/Regina:20250101T003000
DTSTAMP:20260423T165147
CREATED:20211215T030720Z
LAST-MODIFIED:20241218T043728Z
UID:9484-1735680600-1735691400@rccgregina.org
SUMMARY:Crossover Night and Thanksgiving Service
DESCRIPTION:
URL:https://rccgregina.org/event/crossover-night-and-thanksgiving-service-2022/
LOCATION:Church Auditorium\, 1171 Broder St\, REGINA\, SK\, S4N 3R1\, Canada
CATEGORIES:ministry
ATTACH;FMTTYPE=image/jpeg:https://rccgregina.org/wp-content/uploads/2021/12/CrossoverNight.jpg
END:VEVENT
BEGIN:VEVENT
DTSTART;TZID=America/Regina:20241216T090000
DTEND;TZID=America/Regina:20241216T123000
DTSTAMP:20260423T165147
CREATED:20231008T150019Z
LAST-MODIFIED:20241201T043227Z
UID:2208-1734339600-1734352200@rccgregina.org
SUMMARY:Sunday Service
DESCRIPTION:
URL:https://rccgregina.org/event/sunday-service/
LOCATION:Church Auditorium\, 1171 Broder St\, REGINA\, SK\, S4N 3R1\, Canada
CATEGORIES:ministry
ATTACH;FMTTYPE=image/jpeg:https://rccgregina.org/wp-content/uploads/2023/10/church2-e1696307103161.jpg
END:VEVENT
BEGIN:VEVENT
DTSTART;TZID=America/Regina:20211103T193000
DTEND;TZID=America/Regina:20211103T211500
DTSTAMP:20260423T165147
CREATED:20181103T194241Z
LAST-MODIFIED:20181103T194241Z
UID:8811-1635967800-1635974100@rccgregina.org
SUMMARY:Communion Service | In-Person Church Service
DESCRIPTION:Communion Service | In-Person Church Service
URL:https://rccgregina.org/event/communion-service/
LOCATION:Church Auditorium\, 1171 Broder St\, REGINA\, SK\, S4N 3R1\, Canada
CATEGORIES:ministry
ATTACH;FMTTYPE=:
END:VEVENT
BEGIN:VEVENT
DTSTART;TZID=America/Regina:20211024T090000
DTEND;TZID=America/Regina:20211024T121500
DTSTAMP:20260423T165147
CREATED:20210801T092435Z
LAST-MODIFIED:20210801T092435Z
UID:9404-1635066000-1635077700@rccgregina.org
SUMMARY:Celebration Service: In-Person & Online
DESCRIPTION:
URL:https://rccgregina.org/event/celebration-service-in-person-online-4/
LOCATION:SK
CATEGORIES:ministry
END:VEVENT
BEGIN:VEVENT
DTSTART;TZID=America/Regina:20211017T090000
DTEND;TZID=America/Regina:20211017T121500
DTSTAMP:20260423T165147
CREATED:20210801T092258Z
LAST-MODIFIED:20210801T092258Z
UID:9402-1634461200-1634472900@rccgregina.org
SUMMARY:Celebration Service: In-Person & Online
DESCRIPTION:
URL:https://rccgregina.org/event/celebration-service-in-person-online-3/
LOCATION:SK
CATEGORIES:ministry
END:VEVENT
BEGIN:VEVENT
DTSTART;TZID=America/Regina:20211010T093000
DTEND;TZID=America/Regina:20211010T121500
DTSTAMP:20260423T165147
CREATED:20210801T092233Z
LAST-MODIFIED:20210801T092233Z
UID:9400-1633858200-1633868100@rccgregina.org
SUMMARY:Celebration Service: In-Person & Online
DESCRIPTION:
URL:https://rccgregina.org/event/celebration-service-in-person-online-2/
LOCATION:SK
CATEGORIES:ministry
END:VEVENT
BEGIN:VEVENT
DTSTART;TZID=America/Regina:20211003T093000
DTEND;TZID=America/Regina:20211003T121500
DTSTAMP:20260423T165147
CREATED:20180901T170237Z
LAST-MODIFIED:20180901T170237Z
UID:8772-1633253400-1633263300@rccgregina.org
SUMMARY:Thanksgiving and Celebration Service
DESCRIPTION:
URL:https://rccgregina.org/event/thanksgiving-and-celebration-service/
LOCATION:Church Auditorium\, 1171 Broder St\, REGINA\, SK\, S4N 3R1\, Canada
CATEGORIES:ministry
ATTACH;FMTTYPE=:
END:VEVENT
BEGIN:VEVENT
DTSTART;TZID=America/Regina:20201115T093000
DTEND;TZID=America/Regina:20201115T121500
DTSTAMP:20260423T165147
CREATED:20201101T081759Z
LAST-MODIFIED:20201101T081759Z
UID:9276-1605432600-1605442500@rccgregina.org
SUMMARY:Sermon/Teaching Sunday | In-Person and Online
DESCRIPTION:Sermon/Teaching Sunday | In-Person and Online
URL:https://rccgregina.org/event/sermon-teaching-sunday-in-person-and-online/
LOCATION:SK
CATEGORIES:ministry
END:VEVENT
BEGIN:VEVENT
DTSTART;TZID=America/Regina:20201108T093000
DTEND;TZID=America/Regina:20201108T121500
DTSTAMP:20260423T165147
CREATED:20181103T193835Z
LAST-MODIFIED:20181103T193835Z
UID:8807-1604827800-1604837700@rccgregina.org
SUMMARY:Sermon/Teaching Sunday | In-Person and Online
DESCRIPTION:Sunday Celebration Service – In-Person and Online
URL:https://rccgregina.org/event/sunday-celebration-service-2/
LOCATION:Church Auditorium\, 1171 Broder St\, REGINA\, SK\, S4N 3R1\, Canada
CATEGORIES:ministry
END:VEVENT
BEGIN:VEVENT
DTSTART;TZID=America/Regina:20190113T100000
DTEND;TZID=America/Regina:20190113T121500
DTSTAMP:20260423T165147
CREATED:20181103T194050Z
LAST-MODIFIED:20181103T194050Z
UID:8809-1547373600-1547381700@rccgregina.org
SUMMARY:Sunday Celebration Service
DESCRIPTION:
URL:https://rccgregina.org/event/sunday-celebration-service-3/
LOCATION:Church Auditorium\, 1171 Broder St\, REGINA\, SK\, S4N 3R1\, Canada
CATEGORIES:ministry
END:VEVENT
BEGIN:VEVENT
DTSTART;TZID=America/Regina:20190106T100000
DTEND;TZID=America/Regina:20190106T123000
DTSTAMP:20260423T165147
CREATED:20180124T032730Z
LAST-MODIFIED:20180124T032730Z
UID:8628-1546768800-1546777800@rccgregina.org
SUMMARY:Sunday Celebration & Thanksgiving Service
DESCRIPTION:
URL:https://rccgregina.org/event/sunday-celebration-service/
LOCATION:Church Auditorium\, 1171 Broder St\, REGINA\, SK\, S4N 3R1\, Canada
CATEGORIES:ministry
ATTACH;FMTTYPE=:
END:VEVENT
BEGIN:VEVENT
DTSTART;TZID=America/Regina:20181231T213000
DTEND;TZID=America/Regina:20190101T003000
DTSTAMP:20260423T165147
CREATED:20181106T050709Z
LAST-MODIFIED:20181106T050709Z
UID:8821-1546291800-1546302600@rccgregina.org
SUMMARY:Crossover Night and Thanksgiving Service
DESCRIPTION:
URL:https://rccgregina.org/event/crossover-night-and-thanksgiving-service/
LOCATION:Church Auditorium\, 1171 Broder St\, REGINA\, SK\, S4N 3R1\, Canada
CATEGORIES:ministry
ATTACH;FMTTYPE=:
END:VEVENT
BEGIN:VEVENT
DTSTART;TZID=America/Regina:20180805T100000
DTEND;TZID=America/Regina:20180805T123000
DTSTAMP:20260423T165147
CREATED:20180603T061023Z
LAST-MODIFIED:20180603T061023Z
UID:8723-1533463200-1533472200@rccgregina.org
SUMMARY:Thanksgiving Service and Celebration Service
DESCRIPTION:
URL:https://rccgregina.org/event/thanksgiving-service/
LOCATION:Church Auditorium\, 1171 Broder St\, REGINA\, SK\, S4N 3R1\, Canada
CATEGORIES:ministry
END:VEVENT
BEGIN:VEVENT
DTSTART;TZID=America/Regina:20180325T100000
DTEND;TZID=America/Regina:20180325T121500
DTSTAMP:20260423T165147
CREATED:20180324T234514Z
LAST-MODIFIED:20180324T234514Z
UID:8691-1521972000-1521980100@rccgregina.org
SUMMARY:Power Sunday
DESCRIPTION:
URL:https://rccgregina.org/event/power-sunday/
LOCATION:Church Auditorium\, 1171 Broder St\, REGINA\, SK\, S4N 3R1\, Canada
CATEGORIES:ministry
ATTACH;FMTTYPE=:
END:VEVENT
BEGIN:VEVENT
DTSTART;TZID=America/Regina:20180311T100000
DTEND;TZID=America/Regina:20180311T123000
DTSTAMP:20260423T165147
CREATED:20180304T035833Z
LAST-MODIFIED:20180304T035833Z
UID:8644-1520762400-1520771400@rccgregina.org
SUMMARY:Church Potluk
DESCRIPTION:
URL:https://rccgregina.org/event/church-potluk/
LOCATION:Church Auditorium\, 1171 Broder St\, REGINA\, SK\, S4N 3R1\, Canada
CATEGORIES:ministry
END:VEVENT
BEGIN:VEVENT
DTSTART;TZID=America/Regina:20170421T220000
DTEND;TZID=America/Regina:20170422T020000
DTSTAMP:20260423T165147
CREATED:20170422T050001Z
LAST-MODIFIED:20170422T050001Z
UID:8266-1492812000-1492826400@rccgregina.org
SUMMARY:Vigil
DESCRIPTION:
URL:https://rccgregina.org/event/vigil/
LOCATION:Church Auditorium\, 1171 Broder St\, REGINA\, SK\, S4N 3R1\, Canada
CATEGORIES:ministry
END:VEVENT
BEGIN:VEVENT
DTSTART;TZID=America/Regina:20170416T100000
DTEND;TZID=America/Regina:20170416T121500
DTSTAMP:20260423T165147
CREATED:20170402T130508Z
LAST-MODIFIED:20170402T130508Z
UID:7899-1492336800-1492344900@rccgregina.org
SUMMARY:Easter Celebration Service
DESCRIPTION:
URL:https://rccgregina.org/event/celebration-service/
LOCATION:Church Auditorium\, 1171 Broder St\, REGINA\, SK\, S4N 3R1\, Canada
CATEGORIES:ministry
END:VEVENT
BEGIN:VEVENT
DTSTART;TZID=America/Regina:20161016T100000
DTEND;TZID=America/Regina:20161016T121500
DTSTAMP:20260423T165147
CREATED:20161016T153125Z
LAST-MODIFIED:20161016T153125Z
UID:8264-1476612000-1476620100@rccgregina.org
SUMMARY:Celebration Service
DESCRIPTION:
URL:https://rccgregina.org/event/celebration-service-3/
LOCATION:Church Auditorium\, 1171 Broder St\, REGINA\, SK\, S4N 3R1\, Canada
CATEGORIES:ministry
ATTACH;FMTTYPE=:
END:VEVENT
END:VCALENDAR