BEGIN:VCALENDAR
VERSION:2.0
PRODID:-//RCCG Mount Zion Parish, Regina Saskatchewan, Canada - ECPv6.15.20//NONSGML v1.0//EN
CALSCALE:GREGORIAN
METHOD:PUBLISH
X-ORIGINAL-URL:https://rccgregina.org
X-WR-CALDESC:Events for RCCG Mount Zion Parish, Regina Saskatchewan, Canada
REFRESH-INTERVAL;VALUE=DURATION:PT1H
X-Robots-Tag:noindex
X-PUBLISHED-TTL:PT1H
BEGIN:VTIMEZONE
TZID:America/Regina
BEGIN:STANDARD
TZOFFSETFROM:-0600
TZOFFSETTO:-0600
TZNAME:CST
DTSTART:20240101T000000
END:STANDARD
END:VTIMEZONE
BEGIN:VTIMEZONE
TZID:UTC
BEGIN:STANDARD
TZOFFSETFROM:+0000
TZOFFSETTO:+0000
TZNAME:UTC
DTSTART:20240101T000000
END:STANDARD
END:VTIMEZONE
BEGIN:VEVENT
DTSTART;TZID=America/Regina:20250105T090000
DTEND;TZID=America/Regina:20250105T123000
DTSTAMP:20260425T080959
CREATED:20150917T004729Z
LAST-MODIFIED:20241218T045420Z
UID:438-1736067600-1736080200@rccgregina.org
SUMMARY:New Year Thanksgiving Sunday
DESCRIPTION:
URL:https://rccgregina.org/event/faith-conference/
LOCATION:Church Auditorium\, 1171 Broder St\, REGINA\, SK\, S4N 3R1\, Canada
CATEGORIES:Community,Music,Outreach
ATTACH;FMTTYPE=image/jpeg:https://rccgregina.org/wp-content/uploads/2015/09/event_1.jpg
END:VEVENT
BEGIN:VEVENT
DTSTART;TZID=America/Regina:20250112T090000
DTEND;TZID=America/Regina:20250112T123000
DTSTAMP:20260425T080959
CREATED:20231003T063957Z
LAST-MODIFIED:20241218T045644Z
UID:9665-1736672400-1736685000@rccgregina.org
SUMMARY:Sunday Service
DESCRIPTION:
URL:https://rccgregina.org/event/celebration-sunday-service/
LOCATION:Church Auditorium\, 1171 Broder St\, REGINA\, SK\, S4N 3R1\, Canada
CATEGORIES:ministry
ATTACH;FMTTYPE=image/jpeg:https://rccgregina.org/wp-content/uploads/2023/10/church2-e1696307103161.jpg
END:VEVENT
BEGIN:VEVENT
DTSTART;TZID=UTC:20250123T080000
DTEND;TZID=UTC:20250123T170000
DTSTAMP:20260425T080959
CREATED:20150916T224836Z
LAST-MODIFIED:20150916T224836Z
UID:9955-1737619200-1737651600@rccgregina.org
SUMMARY:Family Growth
DESCRIPTION:Maecenas leo nisi\, efficitur at felis sit amet\, lacinia auctor quam. Aliquam euismod pretium mattis. Aenean sollicitudin orci non orci gravida ullamcorper. Duis utres odios pellentesque\, efficiturs odio vitae\, aliquams arcu. Sed pulvinar lacus at neque imperdiet lobortis. Phasellus eget lectus rutrum\, fringilla nibh ut\, convallis orci. Quisque magna risus\, lacinia a pharetra vel\, gravida ac mi. Aenean ac interdum nisi\, et vehicula nisl. Suspendisse potenti. Cras leo ex\, congue eget dignissim nec\, porta maximus erat. Etiam ornare arcu neque\, in viverra eros egestas eu. Mauris diam velit\, dictum et vehicula nec\, sagittis nec sapien. Donec tincidunt purus et justo porttitor\, non porttitor quam fermentum orci non aliquams arcu dolores ipsums. \nDonec maximus a ante sit amet nisl nisi at arcu. Donec lobortis libero ex\, a sollicitudin neque volutpat. Aenean pretium nisi id lectus cursus sagittis. Aliquam sit amet nisl pretium\, consectetur purus non\, porta libero. Integer dui dui\, porta non mollis sit amet\, pharetra nec risus. Donec fringilla ex non arcu auctor\, vel faucibus felis pharetra. Pellentesque condimentum suscipit mi. Sed pretium\, tellus et efficitur dapibus\, metus nunc gravida ante\, at interdum nisl nisi at arcu. Donec lobortis libero ex\, a sollicitudin neque dapibus vitae. Maecenas volutpat est sit amet leo pretium mollis eu a odio dolores ipsums ficilis etras.
URL:https://rccgregina.org/event/family-growth/
LOCATION:South Campus\, 1234 Apple Avenue\, New York City\, NY\, 111111\, United States
CATEGORIES:Community,Food,Music,Outreach
ATTACH;FMTTYPE=image/jpeg:https://rccgregina.org/wp-content/uploads/2015/09/event_6-compressor.jpg
END:VEVENT
BEGIN:VEVENT
DTSTART;TZID=America/Regina:20250209T093000
DTEND;TZID=America/Regina:20250209T120000
DTSTAMP:20260425T080959
CREATED:20250201T075338Z
LAST-MODIFIED:20250201T075338Z
UID:10889-1739093400-1739102400@rccgregina.org
SUMMARY:Special Valentine’s Celebration
DESCRIPTION:Come and be blessed as we explore biblical principles of love and leadership in relationships. Don’t miss this inspiring event!
URL:https://rccgregina.org/event/special-valentines-celebration/
LOCATION:Church Auditorium\, 1171 Broder St\, REGINA\, SK\, S4N 3R1\, Canada
CATEGORIES:ministry
ATTACH;FMTTYPE=image/jpeg:https://rccgregina.org/wp-content/uploads/2024/12/WhatsApp-Image-2025-01-29-at-5.57.29-PM.jpeg
END:VEVENT
BEGIN:VEVENT
DTSTART;TZID=America/Regina:20250305T193000
DTEND;TZID=America/Regina:20250305T210000
DTSTAMP:20260425T080959
CREATED:20250201T072011Z
LAST-MODIFIED:20250223T040526Z
UID:10884-1741203000-1741208400@rccgregina.org
SUMMARY:Holy Communion
DESCRIPTION:Join Us for a Supernatural Encounter at Holy Communion \nCome and experience the grace\, love\, and power of Christ at our Holy Communion Service. As we partake in the Lord’s Table\, we remember His sacrifice\, renew our faith\, and receive spiritual strength for the journey ahead. \n“Do this in remembrance of Me.” – Luke 22:19 \nAll are welcome to this divine fellowship. Come with expectation\, leave refreshed and empowered! \nWe look forward to sharing this sacred moment with you! 🙏✨
URL:https://rccgregina.org/event/holy-communion-5/
LOCATION:Church Auditorium\, 1171 Broder St\, REGINA\, SK\, S4N 3R1\, Canada
ATTACH;FMTTYPE=image/jpeg:https://rccgregina.org/wp-content/uploads/2025/02/HolyCommunion.jpg
END:VEVENT
BEGIN:VEVENT
DTSTART;TZID=America/Regina:20250309T090000
DTEND;TZID=America/Regina:20250309T123000
DTSTAMP:20260425T080959
CREATED:20241113T040708Z
LAST-MODIFIED:20250223T034519Z
UID:10315-1741510800-1741523400@rccgregina.org
SUMMARY:Sunday Service
DESCRIPTION:Join us this Sunday for a powerful time of worship\, prayer\, and inspiring messages. Experience uplifting music\, biblical teachings\, and a welcoming community.
URL:https://rccgregina.org/event/sunday-service-2/
LOCATION:Church Auditorium\, 1171 Broder St\, REGINA\, SK\, S4N 3R1\, Canada
CATEGORIES:ministry
ATTACH;FMTTYPE=image/jpeg:https://rccgregina.org/wp-content/uploads/2024/11/475012590_998337002318625_3189939558973346722_n.jpg
END:VEVENT
BEGIN:VEVENT
DTSTART;TZID=America/Regina:20250316T090000
DTEND;TZID=America/Regina:20250316T123000
DTSTAMP:20260425T080959
CREATED:20250223T034813Z
LAST-MODIFIED:20250223T034813Z
UID:10978-1742115600-1742128200@rccgregina.org
SUMMARY:Sunday Service
DESCRIPTION:Join us this Sunday for a powerful time of worship\, prayer\, and inspiring messages. Experience uplifting music\, biblical teachings\, and a welcoming community.
URL:https://rccgregina.org/event/sunday-service-5/
LOCATION:Church Auditorium\, 1171 Broder St\, REGINA\, SK\, S4N 3R1\, Canada
CATEGORIES:ministry
ATTACH;FMTTYPE=image/jpeg:https://rccgregina.org/wp-content/uploads/2024/11/475012590_998337002318625_3189939558973346722_n.jpg
END:VEVENT
BEGIN:VEVENT
DTSTART;TZID=America/Regina:20250321T230000
DTEND;TZID=America/Regina:20250322T013000
DTSTAMP:20260425T080959
CREATED:20250220T000503Z
LAST-MODIFIED:20250301T165748Z
UID:10965-1742598000-1742607000@rccgregina.org
SUMMARY:Night Vigil
DESCRIPTION:Join Us for a Powerful Night of Prayer! 🙏✨ \nAre you longing for a breakthrough\, seeking divine direction\, or simply hungry for more of God? Don’t miss our upcoming Prayer Vigil! \nCome expectant\, come ready—God is moving\, and miracles happen when we pray! Bring your family\, invite a friend\, and let’s seek His presence together. \n🔥 “The earnest prayer of a righteous person has great power and produces wonderful results.” – James 5:16
URL:https://rccgregina.org/event/night-vigil/
LOCATION:Church Auditorium\, 1171 Broder St\, REGINA\, SK\, S4N 3R1\, Canada
ATTACH;FMTTYPE=image/png:https://rccgregina.org/wp-content/uploads/2025/02/Prayer-vigil.png
END:VEVENT
BEGIN:VEVENT
DTSTART;TZID=America/Regina:20250323T080000
DTEND;TZID=America/Regina:20250323T170000
DTSTAMP:20260425T080959
CREATED:20250301T175615Z
LAST-MODIFIED:20250301T175615Z
UID:11021-1742716800-1742749200@rccgregina.org
SUMMARY:Sunday Service
DESCRIPTION:A time of refreshing in the presence of God
URL:https://rccgregina.org/event/sunday-service-8/
LOCATION:Church Auditorium\, 1171 Broder St\, REGINA\, SK\, S4N 3R1\, Canada
END:VEVENT
BEGIN:VEVENT
DTSTART;TZID=America/Regina:20250323T090000
DTEND;TZID=America/Regina:20250323T123000
DTSTAMP:20260425T080959
CREATED:20241220T014515Z
LAST-MODIFIED:20250223T035620Z
UID:10676-1742720400-1742733000@rccgregina.org
SUMMARY:Sunday Service
DESCRIPTION:Join us this Sunday for a time of worship\, uplifting messages\, and fellowship. Let’s grow together in faith and experience God’s love in a fresh way. All are welcome!
URL:https://rccgregina.org/event/sunday-service-3/
LOCATION:Church Auditorium\, 1171 Broder St\, REGINA\, SK\, S4N 3R1\, Canada
CATEGORIES:ministry
ATTACH;FMTTYPE=image/jpeg:https://rccgregina.org/wp-content/uploads/2023/10/church5b.jpg
END:VEVENT
BEGIN:VEVENT
DTSTART;TZID=America/Regina:20250326T193000
DTEND;TZID=America/Regina:20250326T210000
DTSTAMP:20260425T080959
CREATED:20241220T010131Z
LAST-MODIFIED:20250223T041451Z
UID:10671-1743017400-1743022800@rccgregina.org
SUMMARY:Bible Study
DESCRIPTION:Join us for an inspiring journey through God’s Word! Together\, we’ll explore life-changing truths\, find answers to pressing questions\, and deepen our relationship with Christ. Don’t miss this time of growth and fellowship!.
URL:https://rccgregina.org/event/bible-study-4/
LOCATION:Church Auditorium\, 1171 Broder St\, REGINA\, SK\, S4N 3R1\, Canada
ATTACH;FMTTYPE=image/jpeg:https://rccgregina.org/wp-content/uploads/2024/12/bible-study-e1734657902949.jpg
END:VEVENT
BEGIN:VEVENT
DTSTART;TZID=America/Regina:20250406T093000
DTEND;TZID=America/Regina:20250406T120000
DTSTAMP:20260425T080959
CREATED:20250301T172934Z
LAST-MODIFIED:20250301T172934Z
UID:11005-1743931800-1743940800@rccgregina.org
SUMMARY:Thanksgiving Service
DESCRIPTION:
URL:https://rccgregina.org/event/thanksgiving-service-2/
LOCATION:Church Auditorium\, 1171 Broder St\, REGINA\, SK\, S4N 3R1\, Canada
ATTACH;FMTTYPE=image/jpeg:https://rccgregina.org/wp-content/uploads/2020/07/Joyfu-1-scaled.jpg
END:VEVENT
BEGIN:VEVENT
DTSTART;TZID=America/Regina:20250419T090000
DTEND;TZID=America/Regina:20250419T120000
DTSTAMP:20260425T080959
CREATED:20250301T183923Z
LAST-MODIFIED:20250417T045437Z
UID:11031-1745053200-1745064000@rccgregina.org
SUMMARY:Easter Prayer Retreat
DESCRIPTION:
URL:https://rccgregina.org/event/parish-vigil-2/
LOCATION:Church Auditorium\, 1171 Broder St\, REGINA\, SK\, S4N 3R1\, Canada
ATTACH;FMTTYPE=image/png:https://rccgregina.org/wp-content/uploads/2025/03/PrayerRetreat.png
END:VEVENT
BEGIN:VEVENT
DTSTART;TZID=America/Regina:20250420T090000
DTEND;TZID=America/Regina:20250420T123000
DTSTAMP:20260425T080959
CREATED:20250405T190238Z
LAST-MODIFIED:20250405T190238Z
UID:11107-1745139600-1745152200@rccgregina.org
SUMMARY:Easter Sunday
DESCRIPTION:
URL:https://rccgregina.org/event/easter-sunday/
LOCATION:Church Auditorium\, 1171 Broder St\, REGINA\, SK\, S4N 3R1\, Canada
ATTACH;FMTTYPE=image/jpeg:https://rccgregina.org/wp-content/uploads/2025/03/EvaPost.jpg
END:VEVENT
BEGIN:VEVENT
DTSTART;TZID=America/Regina:20250427T090000
DTEND;TZID=America/Regina:20250427T123000
DTSTAMP:20260425T080959
CREATED:20250301T175157Z
LAST-MODIFIED:20250417T045740Z
UID:11019-1745744400-1745757000@rccgregina.org
SUMMARY:Diversity/Potluck  Sunday
DESCRIPTION:
URL:https://rccgregina.org/event/sunday-service-7/
LOCATION:SK
ATTACH;FMTTYPE=image/png:https://rccgregina.org/wp-content/uploads/2025/03/DiversitySunday3.png
END:VEVENT
BEGIN:VEVENT
DTSTART;TZID=America/Regina:20250504T093000
DTEND;TZID=America/Regina:20250504T121500
DTSTAMP:20260425T080959
CREATED:20250404T165042Z
LAST-MODIFIED:20250417T044847Z
UID:9510-1746351000-1746360900@rccgregina.org
SUMMARY:Thanksgiving Service
DESCRIPTION:We warmly invite you to our Thanksgiving and Celebration Service this Sunday! It’s a wonderful opportunity to come together as a community\, express our gratitude\, and celebrate the many blessings we’ve received – prophetically declare into the new month. \nBring your family and friends to this joyous occasion filled with uplifting music\, inspiring messages\, and heartfelt fellowship. Let’s make this a memorable event by gathering in unity and thankfulness. \nWe look forward to seeing you there!
URL:https://rccgregina.org/event/celebration-service-in-person-online-14/
LOCATION:Church Auditorium\, 1171 Broder St\, REGINA\, SK\, S4N 3R1\, Canada
ATTACH;FMTTYPE=image/jpeg:https://rccgregina.org/wp-content/uploads/2022/02/ts.jpg
END:VEVENT
BEGIN:VEVENT
DTSTART;TZID=America/Regina:20250511T090000
DTEND;TZID=America/Regina:20250511T123000
DTSTAMP:20260425T080959
CREATED:20250301T174418Z
LAST-MODIFIED:20250429T024134Z
UID:11014-1746954000-1746966600@rccgregina.org
SUMMARY:Sunday Service
DESCRIPTION:Join us this Sunday for a time of worship\, uplifting messages\, and fellowship. Let’s grow together in faith and experience God’s love in a fresh way. All are welcome!
URL:https://rccgregina.org/event/sunday-service-april-13-900-am-1230-pm/
LOCATION:SK
ATTACH;FMTTYPE=image/jpeg:https://rccgregina.org/wp-content/uploads/2025/02/gallary-11.jpg
END:VEVENT
BEGIN:VEVENT
DTSTART;TZID=America/Regina:20250511T090000
DTEND;TZID=America/Regina:20250511T123000
DTSTAMP:20260425T080959
CREATED:20250504T214548Z
LAST-MODIFIED:20250504T214644Z
UID:11139-1746954000-1746966600@rccgregina.org
SUMMARY:Mother's Day
DESCRIPTION:
URL:https://rccgregina.org/event/mothers-day/
LOCATION:Church Auditorium\, 1171 Broder St\, REGINA\, SK\, S4N 3R1\, Canada
ATTACH;FMTTYPE=image/jpeg:https://rccgregina.org/wp-content/uploads/2025/05/MothersDay.jpg
END:VEVENT
BEGIN:VEVENT
DTSTART;TZID=America/Regina:20250514T193000
DTEND;TZID=America/Regina:20250514T210000
DTSTAMP:20260425T080959
CREATED:20241220T012716Z
LAST-MODIFIED:20250429T024055Z
UID:10674-1747251000-1747256400@rccgregina.org
SUMMARY:Bible Study
DESCRIPTION:Join us for an inspiring journey through God’s Word! Together\, we’ll explore life-changing truths\, find answers to pressing questions\, and deepen our relationship with Christ. Don’t miss this time of growth and fellowship!.
URL:https://rccgregina.org/event/bible-study-5/
LOCATION:Church Auditorium\, 1171 Broder St\, REGINA\, SK\, S4N 3R1\, Canada
ATTACH;FMTTYPE=image/jpeg:https://rccgregina.org/wp-content/uploads/2024/12/bible-study-e1734657902949.jpg
END:VEVENT
BEGIN:VEVENT
DTSTART;TZID=America/Regina:20250516T230000
DTEND;TZID=America/Regina:20250517T013000
DTSTAMP:20260425T080959
CREATED:20250429T021201Z
LAST-MODIFIED:20250429T023350Z
UID:11124-1747436400-1747445400@rccgregina.org
SUMMARY:Night Vigil
DESCRIPTION:Join Us for a Powerful Night of Prayer! 🙏✨ \nAre you longing for a breakthrough\, seeking divine direction\, or simply hungry for more of God? Don’t miss our upcoming Prayer Vigil! \nCome expectant\, come ready—God is moving\, and miracles happen when we pray! Bring your family\, invite a friend\, and let’s seek His presence together. \n🔥 “The earnest prayer of a righteous person has great power and produces wonderful results.” – James 5:16
URL:https://rccgregina.org/event/night-vigil-2/
LOCATION:Church Auditorium\, 1171 Broder St\, REGINA\, SK\, S4N 3R1\, Canada
ATTACH;FMTTYPE=image/png:https://rccgregina.org/wp-content/uploads/2025/02/Prayer-vigil.png
END:VEVENT
BEGIN:VEVENT
DTSTART;TZID=America/Regina:20250518T090000
DTEND;TZID=America/Regina:20250518T123000
DTSTAMP:20260425T080959
CREATED:20250223T035848Z
LAST-MODIFIED:20250429T024032Z
UID:10977-1747558800-1747571400@rccgregina.org
SUMMARY:Sunday Service
DESCRIPTION:Join us this Sunday for a time of worship\, uplifting messages\, and fellowship. Let’s grow together in faith and experience God’s love in a fresh way. All are welcome!
URL:https://rccgregina.org/event/sunday-service-6/
LOCATION:Church Auditorium\, 1171 Broder St\, REGINA\, SK\, S4N 3R1\, Canada
CATEGORIES:ministry
ATTACH;FMTTYPE=image/jpeg:https://rccgregina.org/wp-content/uploads/2023/10/church5b.jpg
END:VEVENT
BEGIN:VEVENT
DTSTART;TZID=America/Regina:20250521T193000
DTEND;TZID=America/Regina:20250521T210000
DTSTAMP:20260425T080959
CREATED:20250429T024005Z
LAST-MODIFIED:20250429T024005Z
UID:11129-1747855800-1747861200@rccgregina.org
SUMMARY:Bible Study
DESCRIPTION:Join us for an inspiring journey through God’s Word! Together\, we’ll explore life-changing truths\, find answers to pressing questions\, and deepen our relationship with Christ. Don’t miss this time of growth and fellowship!.
URL:https://rccgregina.org/event/bible-study-6/
LOCATION:Church Auditorium\, 1171 Broder St\, REGINA\, SK\, S4N 3R1\, Canada
ATTACH;FMTTYPE=image/jpeg:https://rccgregina.org/wp-content/uploads/2024/12/bible-study-e1734657902949.jpg
END:VEVENT
BEGIN:VEVENT
DTSTART;TZID=America/Regina:20250525T090000
DTEND;TZID=America/Regina:20250525T123000
DTSTAMP:20260425T080959
CREATED:20250429T020539Z
LAST-MODIFIED:20250429T020539Z
UID:11121-1748163600-1748176200@rccgregina.org
SUMMARY:Sunday Service
DESCRIPTION:Join us this Sunday for a time of worship\, uplifting messages\, and fellowship. Let’s grow together in faith and experience God’s love in a fresh way. All are welcome!
URL:https://rccgregina.org/event/sunday-service-9/
LOCATION:Church Auditorium\, 1171 Broder St\, REGINA\, SK\, S4N 3R1\, Canada
CATEGORIES:ministry
ATTACH;FMTTYPE=image/png:https://rccgregina.org/wp-content/uploads/2025/04/SundayService.png
END:VEVENT
BEGIN:VEVENT
DTSTART;TZID=America/Regina:20250528T193000
DTEND;TZID=America/Regina:20250528T210000
DTSTAMP:20260425T080959
CREATED:20250429T023624Z
LAST-MODIFIED:20250429T023625Z
UID:11126-1748460600-1748466000@rccgregina.org
SUMMARY:Prayer Meeting
DESCRIPTION:
URL:https://rccgregina.org/event/prayer-meeting/
LOCATION:SK
ATTACH;FMTTYPE=image/png:https://rccgregina.org/wp-content/uploads/2025/04/PrayerMeeting.png
END:VEVENT
BEGIN:VEVENT
DTSTART;TZID=America/Regina:20250530T183000
DTEND;TZID=America/Regina:20250530T210000
DTSTAMP:20260425T080959
CREATED:20250512T222008Z
LAST-MODIFIED:20250513T033721Z
UID:11146-1748629800-1748638800@rccgregina.org
SUMMARY:Divine Empowerment (Encounter Hour)
DESCRIPTION:Join us for Day 1 of Divine Empowerment!Experience powerful worship\, life-transforming messages\, and a fresh encounter with God. Don’t miss this divine appointment—your breakthrough starts here!
URL:https://rccgregina.org/event/divine-empowerment-day-1/
LOCATION:Church Auditorium\, 1171 Broder St\, REGINA\, SK\, S4N 3R1\, Canada
CATEGORIES:ministry
ATTACH;FMTTYPE=image/jpeg:https://rccgregina.org/wp-content/uploads/2024/11/475012590_998337002318625_3189939558973346722_n.jpg
END:VEVENT
BEGIN:VEVENT
DTSTART;TZID=America/Regina:20250531T183000
DTEND;TZID=America/Regina:20250531T210000
DTSTAMP:20260425T080959
CREATED:20250513T060151Z
LAST-MODIFIED:20250513T060728Z
UID:11153-1748716200-1748725200@rccgregina.org
SUMMARY:Divine Empowerment (Apostolic Hour)
DESCRIPTION:Day 2: Apostolic Hour – “I AM That I AM”Step into your inheritance! Join us for Apostolic Hour as we declare God’s unchanging presence and power in our lives. Come ready to receive apostolic insight and bold faith
URL:https://rccgregina.org/event/divine-empowerment-apostolic-hour/
LOCATION:Church Auditorium\, 1171 Broder St\, REGINA\, SK\, S4N 3R1\, Canada
CATEGORIES:ministry
ATTACH;FMTTYPE=image/jpeg:https://rccgregina.org/wp-content/uploads/2025/05/day-2.jpg
END:VEVENT
BEGIN:VEVENT
DTSTART;TZID=America/Regina:20250601T100000
DTEND;TZID=America/Regina:20250601T130000
DTSTAMP:20260425T080959
CREATED:20250513T061117Z
LAST-MODIFIED:20250513T061333Z
UID:11157-1748772000-1748782800@rccgregina.org
SUMMARY:Divine Empowerment (Impartation Service)
DESCRIPTION:Day 3: Impartation Service – “I AM That I AM”Receive the mantle! Join us for our Impartation Service as we lay hands and release the fullness of God’s Spirit. Expect divine gifts\, fresh anointing\, and life-changing encounters.
URL:https://rccgregina.org/event/divine-empowerment-impartation-service/
LOCATION:Church Auditorium\, 1171 Broder St\, REGINA\, SK\, S4N 3R1\, Canada
CATEGORIES:ministry
ATTACH;FMTTYPE=image/jpeg:https://rccgregina.org/wp-content/uploads/2025/05/day-3.jpg
END:VEVENT
BEGIN:VEVENT
DTSTART;TZID=America/Regina:20250604T193000
DTEND;TZID=America/Regina:20250604T210000
DTSTAMP:20260425T080959
CREATED:20250531T043628Z
LAST-MODIFIED:20250531T045538Z
UID:11163-1749065400-1749070800@rccgregina.org
SUMMARY:Holy Communion June 4 @ 7:30 pm - 9:00 pm
DESCRIPTION:Join Us for a Supernatural Encounter at Holy Communion \nCome and experience the grace\, love\, and power of Christ at our Holy Communion Service. As we partake in the Lord’s Table\, we remember His sacrifice\, renew our faith\, and receive spiritual strength for the journey ahead. \n“Do this in remembrance of Me.” – Luke 22:19 \nAll are welcome to this divine fellowship. Come with expectation\, leave refreshed and empowered! \nWe look forward to sharing this sacred moment with you! 🙏✨
URL:https://rccgregina.org/event/holy-communion-june-4-730-pm-900-pm/
LOCATION:Church Auditorium\, 1171 Broder St\, REGINA\, SK\, S4N 3R1\, Canada
ATTACH;FMTTYPE=image/jpeg:https://rccgregina.org/wp-content/uploads/2025/02/HolyCommunion.jpg
END:VEVENT
BEGIN:VEVENT
DTSTART;TZID=America/Regina:20250608T090000
DTEND;TZID=America/Regina:20250608T123000
DTSTAMP:20260425T080959
CREATED:20250531T051328Z
LAST-MODIFIED:20250531T051328Z
UID:11181-1749373200-1749385800@rccgregina.org
SUMMARY:Sunday Service
DESCRIPTION:Join us this Sunday for a time of worship\, uplifting messages\, and fellowship. Let’s grow together in faith and experience God’s love in a fresh way. All are welcome!
URL:https://rccgregina.org/event/sunday-service-10/
LOCATION:Church Auditorium\, 1171 Broder St\, REGINA\, SK\, S4N 3R1\, Canada
ATTACH;FMTTYPE=image/jpeg:https://rccgregina.org/wp-content/uploads/2024/12/church-1@0.75x@0.75x.jpg
END:VEVENT
BEGIN:VEVENT
DTSTART;TZID=America/Regina:20250611T193000
DTEND;TZID=America/Regina:20250611T210000
DTSTAMP:20260425T080959
CREATED:20250531T045313Z
LAST-MODIFIED:20250531T045410Z
UID:11167-1749670200-1749675600@rccgregina.org
SUMMARY:Bible Study
DESCRIPTION:Join us for an inspiring journey through God’s Word! Together\, we’ll explore life-changing truths\, find answers to pressing questions\, and deepen our relationship with Christ. Don’t miss this time of growth and fellowship!.
URL:https://rccgregina.org/event/bible-study-8/
LOCATION:Church Auditorium\, 1171 Broder St\, REGINA\, SK\, S4N 3R1\, Canada
ATTACH;FMTTYPE=image/jpeg:https://rccgregina.org/wp-content/uploads/2024/12/bible-study-e1734657902949.jpg
END:VEVENT
END:VCALENDAR