BEGIN:VCALENDAR
VERSION:2.0
PRODID:-//RCCG Mount Zion Parish, Regina Saskatchewan, Canada - ECPv6.15.20//NONSGML v1.0//EN
CALSCALE:GREGORIAN
METHOD:PUBLISH
X-WR-CALNAME:RCCG Mount Zion Parish, Regina Saskatchewan, Canada
X-ORIGINAL-URL:https://rccgregina.org
X-WR-CALDESC:Events for RCCG Mount Zion Parish, Regina Saskatchewan, Canada
REFRESH-INTERVAL;VALUE=DURATION:PT1H
X-Robots-Tag:noindex
X-PUBLISHED-TTL:PT1H
BEGIN:VTIMEZONE
TZID:America/Regina
BEGIN:STANDARD
TZOFFSETFROM:-0600
TZOFFSETTO:-0600
TZNAME:CST
DTSTART:20190101T000000
END:STANDARD
END:VTIMEZONE
BEGIN:VTIMEZONE
TZID:UTC
BEGIN:STANDARD
TZOFFSETFROM:+0000
TZOFFSETTO:+0000
TZNAME:UTC
DTSTART:20230101T000000
END:STANDARD
END:VTIMEZONE
BEGIN:VEVENT
DTSTART;TZID=America/Regina:20241216T090000
DTEND;TZID=America/Regina:20241216T123000
DTSTAMP:20260425T061647
CREATED:20231008T150019Z
LAST-MODIFIED:20241201T043227Z
UID:2208-1734339600-1734352200@rccgregina.org
SUMMARY:Sunday Service
DESCRIPTION:
URL:https://rccgregina.org/event/sunday-service/
LOCATION:Church Auditorium\, 1171 Broder St\, REGINA\, SK\, S4N 3R1\, Canada
CATEGORIES:ministry
ATTACH;FMTTYPE=image/jpeg:https://rccgregina.org/wp-content/uploads/2023/10/church2-e1696307103161.jpg
END:VEVENT
BEGIN:VEVENT
DTSTART;TZID=America/Regina:20241120T193000
DTEND;TZID=America/Regina:20241120T193000
DTSTAMP:20260425T061647
CREATED:20161011T072511Z
LAST-MODIFIED:20241113T040239Z
UID:8312-1732131000-1732131000@rccgregina.org
SUMMARY:Bible Study
DESCRIPTION:
URL:https://rccgregina.org/event/bible-study/
LOCATION:Church Auditorium\, 1171 Broder St\, REGINA\, SK\, S4N 3R1\, Canada
ATTACH;FMTTYPE=image/jpeg:https://rccgregina.org/wp-content/uploads/2021/12/11.jpg
END:VEVENT
BEGIN:VEVENT
DTSTART;TZID=America/Regina:20241115T230000
DTEND;TZID=America/Regina:20241116T013500
DTSTAMP:20260425T061647
CREATED:20220117T033347Z
LAST-MODIFIED:20241113T035452Z
UID:9500-1731711600-1731720900@rccgregina.org
SUMMARY:Night Vigil
DESCRIPTION:
URL:https://rccgregina.org/event/praise-night-3/
LOCATION:Church Auditorium\, 1171 Broder St\, REGINA\, SK\, S4N 3R1\, Canada
ATTACH;FMTTYPE=image/png:https://rccgregina.org/wp-content/uploads/2024/11/churchBuilding.png
END:VEVENT
BEGIN:VEVENT
DTSTART;TZID=UTC:20241014T080000
DTEND;TZID=UTC:20241014T170000
DTSTAMP:20260425T061647
CREATED:20150804T001442Z
LAST-MODIFIED:20150804T001442Z
UID:279-1728892800-1728925200@rccgregina.org
SUMMARY:Hot Air Balloon Rides
DESCRIPTION:Maecenas leo nisi\, efficitur at felis sit amet\, lacinia auctor quam. Aliquam euismod pretium mattis. Aenean sollicitudin orci non orci gravida ullamcorper. Duis utres odios pellentesque\, efficiturs odio vitae\, aliquams arcu. Sed pulvinar lacus at neque imperdiet lobortis. Phasellus eget lectus rutrum\, fringilla nibh ut\, convallis orci. Quisque magna risus\, lacinia a pharetra vel\, gravida ac mi. Aenean ac interdum nisi\, et vehicula nisl. Suspendisse potenti. Cras leo ex\, congue eget dignissim nec\, porta maximus erat. Etiam ornare arcu neque\, in viverra eros egestas eu. Mauris diam velit\, dictum et vehicula nec\, sagittis nec sapien. Donec tincidunt purus et justo porttitor\, non porttitor quam fermentum orci non aliquams arcu dolores ipsums. \nDonec maximus a ante sit amet nisl nisi at arcu. Donec lobortis libero ex\, a sollicitudin neque volutpat. Aenean pretium nisi id lectus cursus sagittis. Aliquam sit amet nisl pretium\, consectetur purus non\, porta libero. Integer dui dui\, porta non mollis sit amet\, pharetra nec risus. Donec fringilla ex non arcu auctor\, vel faucibus felis pharetra. Pellentesque condimentum suscipit mi. Sed pretium\, tellus et efficitur dapibus\, metus nunc gravida ante\, at interdum nisl nisi at arcu. Donec lobortis libero ex\, a sollicitudin neque dapibus vitae. Maecenas volutpat est sit amet leo pretium mollis eu a odio dolores ipsums ficilis etras.
URL:https://rccgregina.org/event/hot-air-balloon-rides/
LOCATION:South Campus\, 1234 Apple Avenue\, New York City\, NY\, 111111\, United States
CATEGORIES:Community
ATTACH;FMTTYPE=image/jpeg:https://rccgregina.org/wp-content/uploads/2015/09/event_7-compressor.jpg
END:VEVENT
BEGIN:VEVENT
DTSTART;TZID=UTC:20240718T110000
DTEND;TZID=UTC:20240718T200000
DTSTAMP:20260425T061647
CREATED:20150917T011434Z
LAST-MODIFIED:20150917T011434Z
UID:440-1721300400-1721332800@rccgregina.org
SUMMARY:Bake Off For Charity
DESCRIPTION:Maecenas leo nisi\, efficitur at felis sit amet\, lacinia auctor quam. Aliquam euismod pretium mattis. Aenean sollicitudin orci non orci gravida ullamcorper. Duis utres odios pellentesque\, efficiturs odio vitae\, aliquams arcu. Sed pulvinar lacus at neque imperdiet lobortis. Phasellus eget lectus rutrum\, fringilla nibh ut\, convallis orci. Quisque magna risus\, lacinia a pharetra vel\, gravida ac mi. Aenean ac interdum nisi\, et vehicula nisl. Suspendisse potenti. Cras leo ex\, congue eget dignissim nec\, porta maximus erat. Etiam ornare arcu neque\, in viverra eros egestas eu. Mauris diam velit\, dictum et vehicula nec\, sagittis nec sapien. Donec tincidunt purus et justo porttitor\, non porttitor quam fermentum orci non aliquams arcu dolores ipsums. \nDonec maximus a ante sit amet nisl nisi at arcu. Donec lobortis libero ex\, a sollicitudin neque volutpat. Aenean pretium nisi id lectus cursus sagittis. Aliquam sit amet nisl pretium\, consectetur purus non\, porta libero. Integer dui dui\, porta non mollis sit amet\, pharetra nec risus. Donec fringilla ex non arcu auctor\, vel faucibus felis pharetra. Pellentesque condimentum suscipit mi. Sed pretium\, tellus et efficitur dapibus\, metus nunc gravida ante\, at interdum nisl nisi at arcu. Donec lobortis libero ex\, a sollicitudin neque dapibus vitae. Maecenas volutpat est sit amet leo pretium mollis eu a odio dolores ipsums ficilis etras.
URL:https://rccgregina.org/event/bake-off-for-charity/
LOCATION:South Campus\, 1234 Apple Avenue\, New York City\, NY\, 111111\, United States
CATEGORIES:Community,Food,Outreach
ATTACH;FMTTYPE=image/jpeg:https://rccgregina.org/wp-content/uploads/2015/09/event_10-compressor.jpg
END:VEVENT
BEGIN:VEVENT
DTSTART;TZID=UTC:20240614T180000
DTEND;TZID=UTC:20240614T210000
DTSTAMP:20260425T061647
CREATED:20150917T011709Z
LAST-MODIFIED:20150917T011709Z
UID:442-1718388000-1718398800@rccgregina.org
SUMMARY:Light Celebration
DESCRIPTION:Maecenas leo nisi\, efficitur at felis sit amet\, lacinia auctor quam. Aliquam euismod pretium mattis. Aenean sollicitudin orci non orci gravida ullamcorper. Duis utres odios pellentesque\, efficiturs odio vitae\, aliquams arcu. Sed pulvinar lacus at neque imperdiet lobortis. Phasellus eget lectus rutrum\, fringilla nibh ut\, convallis orci. Quisque magna risus\, lacinia a pharetra vel\, gravida ac mi. Aenean ac interdum nisi\, et vehicula nisl. Suspendisse potenti. Cras leo ex\, congue eget dignissim nec\, porta maximus erat. Etiam ornare arcu neque\, in viverra eros egestas eu. Mauris diam velit\, dictum et vehicula nec\, sagittis nec sapien. Donec tincidunt purus et justo porttitor\, non porttitor quam fermentum orci non aliquams arcu dolores ipsums. \nDonec maximus a ante sit amet nisl nisi at arcu. Donec lobortis libero ex\, a sollicitudin neque volutpat. Aenean pretium nisi id lectus cursus sagittis. Aliquam sit amet nisl pretium\, consectetur purus non\, porta libero. Integer dui dui\, porta non mollis sit amet\, pharetra nec risus. Donec fringilla ex non arcu auctor\, vel faucibus felis pharetra. Pellentesque condimentum suscipit mi. Sed pretium\, tellus et efficitur dapibus\, metus nunc gravida ante\, at interdum nisl nisi at arcu. Donec lobortis libero ex\, a sollicitudin neque dapibus vitae. Maecenas volutpat est sit amet leo pretium mollis eu a odio dolores ipsums ficilis etras.
URL:https://rccgregina.org/event/firework-celebration/
LOCATION:South Campus\, 1234 Apple Avenue\, New York City\, NY\, 111111\, United States
CATEGORIES:Music,Outreach
ATTACH;FMTTYPE=image/jpeg:https://rccgregina.org/wp-content/uploads/2015/09/event_4-compressor.jpg
END:VEVENT
BEGIN:VEVENT
DTSTART;TZID=UTC:20240606T180000
DTEND;TZID=UTC:20240606T220000
DTSTAMP:20260425T061647
CREATED:20150917T013904Z
LAST-MODIFIED:20150917T013904Z
UID:445-1717696800-1717711200@rccgregina.org
SUMMARY:Holiday Decoration Class
DESCRIPTION:Maecenas leo nisi\, efficitur at felis sit amet\, lacinia auctor quam. Aliquam euismod pretium mattis. Aenean sollicitudin orci non orci gravida ullamcorper. Duis utres odios pellentesque\, efficiturs odio vitae\, aliquams arcu. Sed pulvinar lacus at neque imperdiet lobortis. Phasellus eget lectus rutrum\, fringilla nibh ut\, convallis orci. Quisque magna risus\, lacinia a pharetra vel\, gravida ac mi. Aenean ac interdum nisi\, et vehicula nisl. Suspendisse potenti. Cras leo ex\, congue eget dignissim nec\, porta maximus erat. Etiam ornare arcu neque\, in viverra eros egestas eu. Mauris diam velit\, dictum et vehicula nec\, sagittis nec sapien. Donec tincidunt purus et justo porttitor\, non porttitor quam fermentum orci non aliquams arcu dolores ipsums. \nDonec maximus a ante sit amet nisl nisi at arcu. Donec lobortis libero ex\, a sollicitudin neque volutpat. Aenean pretium nisi id lectus cursus sagittis. Aliquam sit amet nisl pretium\, consectetur purus non\, porta libero. Integer dui dui\, porta non mollis sit amet\, pharetra nec risus. Donec fringilla ex non arcu auctor\, vel faucibus felis pharetra. Pellentesque condimentum suscipit mi. Sed pretium\, tellus et efficitur dapibus\, metus nunc gravida ante\, at interdum nisl nisi at arcu. Donec lobortis libero ex\, a sollicitudin neque dapibus vitae. Maecenas volutpat est sit amet leo pretium mollis eu a odio dolores ipsums ficilis etras.
URL:https://rccgregina.org/event/holiday-decoration-class/
LOCATION:South Campus\, 1234 Apple Avenue\, New York City\, NY\, 111111\, United States
CATEGORIES:Community,Music
ATTACH;FMTTYPE=image/jpeg:https://rccgregina.org/wp-content/uploads/2015/09/event_14-compressor.jpg
END:VEVENT
BEGIN:VEVENT
DTSTART;TZID=UTC:20240530T080000
DTEND;TZID=UTC:20240530T170000
DTSTAMP:20260425T061647
CREATED:20150917T013351Z
LAST-MODIFIED:20150917T013351Z
UID:443-1717056000-1717088400@rccgregina.org
SUMMARY:Family Photos
DESCRIPTION:Maecenas leo nisi\, efficitur at felis sit amet\, lacinia auctor quam. Aliquam euismod pretium mattis. Aenean sollicitudin orci non orci gravida ullamcorper. Duis utres odios pellentesque\, efficiturs odio vitae\, aliquams arcu. Sed pulvinar lacus at neque imperdiet lobortis. Phasellus eget lectus rutrum\, fringilla nibh ut\, convallis orci. Quisque magna risus\, lacinia a pharetra vel\, gravida ac mi. Aenean ac interdum nisi\, et vehicula nisl. Suspendisse potenti. Cras leo ex\, congue eget dignissim nec\, porta maximus erat. Etiam ornare arcu neque\, in viverra eros egestas eu. Mauris diam velit\, dictum et vehicula nec\, sagittis nec sapien. Donec tincidunt purus et justo porttitor\, non porttitor quam fermentum orci non aliquams arcu dolores ipsums. \nDonec maximus a ante sit amet nisl nisi at arcu. Donec lobortis libero ex\, a sollicitudin neque volutpat. Aenean pretium nisi id lectus cursus sagittis. Aliquam sit amet nisl pretium\, consectetur purus non\, porta libero. Integer dui dui\, porta non mollis sit amet\, pharetra nec risus. Donec fringilla ex non arcu auctor\, vel faucibus felis pharetra. Pellentesque condimentum suscipit mi. Sed pretium\, tellus et efficitur dapibus\, metus nunc gravida ante\, at interdum nisl nisi at arcu. Donec lobortis libero ex\, a sollicitudin neque dapibus vitae. Maecenas volutpat est sit amet leo pretium mollis eu a odio dolores ipsums ficilis etras.
URL:https://rccgregina.org/event/family-photo-sessions/
LOCATION:South Campus\, 1234 Apple Avenue\, New York City\, NY\, 111111\, United States
CATEGORIES:Community,Music,Outreach
ATTACH;FMTTYPE=image/jpeg:https://rccgregina.org/wp-content/uploads/2015/09/event_11-compressor.jpg
END:VEVENT
BEGIN:VEVENT
DTSTART;TZID=America/Regina:20221225T093000
DTEND;TZID=America/Regina:20221225T121500
DTSTAMP:20260425T061647
CREATED:20221224T030222Z
LAST-MODIFIED:20221224T030222Z
UID:9588-1671960600-1671970500@rccgregina.org
SUMMARY:Christmas Service
DESCRIPTION:
URL:https://rccgregina.org/event/christmas-service-2022/
LOCATION:SK
END:VEVENT
BEGIN:VEVENT
DTSTART;TZID=America/Regina:20220220T093000
DTEND;TZID=America/Regina:20220220T121500
DTSTAMP:20260425T061647
CREATED:20220117T031735Z
LAST-MODIFIED:20220117T031735Z
UID:9495-1645349400-1645359300@rccgregina.org
SUMMARY:Celebration Service: In-Person & Online
DESCRIPTION:
URL:https://rccgregina.org/event/celebration-service-in-person-online-12/
LOCATION:SK
END:VEVENT
BEGIN:VEVENT
DTSTART;TZID=America/Regina:20220216T193000
DTEND;TZID=America/Regina:20220216T211500
DTSTAMP:20260425T061647
CREATED:20220202T080808Z
LAST-MODIFIED:20220202T080808Z
UID:9516-1645039800-1645046100@rccgregina.org
SUMMARY:Digging Deep Session
DESCRIPTION:
URL:https://rccgregina.org/event/digging-deep-session/
LOCATION:Church Auditorium\, 1171 Broder St\, REGINA\, SK\, S4N 3R1\, Canada
END:VEVENT
BEGIN:VEVENT
DTSTART;TZID=America/Regina:20220213T093000
DTEND;TZID=America/Regina:20220213T121500
DTSTAMP:20260425T061647
CREATED:20220117T031828Z
LAST-MODIFIED:20220117T031828Z
UID:9497-1644744600-1644754500@rccgregina.org
SUMMARY:Celebration Service: In-Person & Online
DESCRIPTION:
URL:https://rccgregina.org/event/celebration-service-in-person-online-13/
LOCATION:SK
END:VEVENT
BEGIN:VEVENT
DTSTART;TZID=America/Regina:20220209T193000
DTEND;TZID=America/Regina:20220209T211500
DTSTAMP:20260425T061647
CREATED:20181103T194607Z
LAST-MODIFIED:20181103T194607Z
UID:8814-1644435000-1644441300@rccgregina.org
SUMMARY:Digging Deep Session
DESCRIPTION:
URL:https://rccgregina.org/event/bible-study-3/
LOCATION:Church Auditorium\, 1171 Broder St\, REGINA\, SK\, S4N 3R1\, Canada
END:VEVENT
BEGIN:VEVENT
DTSTART;VALUE=DATE:20220202
DTEND;VALUE=DATE:20220303
DTSTAMP:20260425T061647
CREATED:20220202T080146Z
LAST-MODIFIED:20220202T080146Z
UID:9512-1643760000-1646265599@rccgregina.org
SUMMARY:Prayer and Fasting
DESCRIPTION:
URL:https://rccgregina.org/event/prayer-and-fasting-3/
LOCATION:SK
ATTACH;FMTTYPE=:
END:VEVENT
BEGIN:VEVENT
DTSTART;TZID=America/Regina:20211226T093000
DTEND;TZID=America/Regina:20211226T121500
DTSTAMP:20260425T061647
CREATED:20211215T030048Z
LAST-MODIFIED:20211215T030048Z
UID:9480-1640511000-1640520900@rccgregina.org
SUMMARY:Celebration Service: In-Person & Online
DESCRIPTION:
URL:https://rccgregina.org/event/celebration-service-in-person-online-10/
LOCATION:SK
END:VEVENT
BEGIN:VEVENT
DTSTART;TZID=America/Regina:20211219T093000
DTEND;TZID=America/Regina:20211219T121500
DTSTAMP:20260425T061647
CREATED:20211215T025957Z
LAST-MODIFIED:20211215T025957Z
UID:9478-1639906200-1639916100@rccgregina.org
SUMMARY:Celebration Service: In-Person & Online
DESCRIPTION:
URL:https://rccgregina.org/event/celebration-service-in-person-online-9/
LOCATION:SK
END:VEVENT
BEGIN:VEVENT
DTSTART;TZID=America/Regina:20211128T093000
DTEND;TZID=America/Regina:20211128T121500
DTSTAMP:20260425T061647
CREATED:20211102T064433Z
LAST-MODIFIED:20211102T064433Z
UID:9463-1638091800-1638101700@rccgregina.org
SUMMARY:Celebration Service: In-Person & Online
DESCRIPTION:
URL:https://rccgregina.org/event/celebration-service-in-person-online-8/
LOCATION:SK
ATTACH;FMTTYPE=:
END:VEVENT
BEGIN:VEVENT
DTSTART;TZID=America/Regina:20211121T093000
DTEND;TZID=America/Regina:20211121T121500
DTSTAMP:20260425T061647
CREATED:20211102T064329Z
LAST-MODIFIED:20211102T064329Z
UID:9461-1637487000-1637496900@rccgregina.org
SUMMARY:Celebration Service: In-Person & Online
DESCRIPTION:
URL:https://rccgregina.org/event/celebration-service-in-person-online-7/
LOCATION:SK
ATTACH;FMTTYPE=:
END:VEVENT
BEGIN:VEVENT
DTSTART;TZID=America/Regina:20211114T093000
DTEND;TZID=America/Regina:20211114T121500
DTSTAMP:20260425T061647
CREATED:20211102T064237Z
LAST-MODIFIED:20211102T064237Z
UID:9459-1636882200-1636892100@rccgregina.org
SUMMARY:Celebration Service: In-Person & Online
DESCRIPTION:
URL:https://rccgregina.org/event/celebration-service-in-person-online-6/
LOCATION:SK
ATTACH;FMTTYPE=:
END:VEVENT
BEGIN:VEVENT
DTSTART;TZID=America/Regina:20211107T093000
DTEND;TZID=America/Regina:20211107T121500
DTSTAMP:20260425T061647
CREATED:20211102T064153Z
LAST-MODIFIED:20211102T064153Z
UID:9457-1636277400-1636287300@rccgregina.org
SUMMARY:Celebration Service: In-Person & Online
DESCRIPTION:
URL:https://rccgregina.org/event/celebration-service-in-person-online-5/
LOCATION:SK
ATTACH;FMTTYPE=:
END:VEVENT
BEGIN:VEVENT
DTSTART;TZID=America/Regina:20211103T193000
DTEND;TZID=America/Regina:20211103T211500
DTSTAMP:20260425T061647
CREATED:20181103T194241Z
LAST-MODIFIED:20181103T194241Z
UID:8811-1635967800-1635974100@rccgregina.org
SUMMARY:Communion Service | In-Person Church Service
DESCRIPTION:Communion Service | In-Person Church Service
URL:https://rccgregina.org/event/communion-service/
LOCATION:Church Auditorium\, 1171 Broder St\, REGINA\, SK\, S4N 3R1\, Canada
CATEGORIES:ministry
ATTACH;FMTTYPE=:
END:VEVENT
BEGIN:VEVENT
DTSTART;TZID=America/Regina:20211031T093000
DTEND;TZID=America/Regina:20211031T121500
DTSTAMP:20260425T061647
CREATED:20201119T210756Z
LAST-MODIFIED:20201119T210756Z
UID:9288-1635672600-1635682500@rccgregina.org
SUMMARY:Celebration Service: In-Person & Online
DESCRIPTION:
URL:https://rccgregina.org/event/celebration-service-in-person-online/
LOCATION:SK
ATTACH;FMTTYPE=:
END:VEVENT
BEGIN:VEVENT
DTSTART;TZID=America/Regina:20211024T090000
DTEND;TZID=America/Regina:20211024T121500
DTSTAMP:20260425T061647
CREATED:20210801T092435Z
LAST-MODIFIED:20210801T092435Z
UID:9404-1635066000-1635077700@rccgregina.org
SUMMARY:Celebration Service: In-Person & Online
DESCRIPTION:
URL:https://rccgregina.org/event/celebration-service-in-person-online-4/
LOCATION:SK
CATEGORIES:ministry
END:VEVENT
BEGIN:VEVENT
DTSTART;TZID=America/Regina:20211017T090000
DTEND;TZID=America/Regina:20211017T121500
DTSTAMP:20260425T061647
CREATED:20210801T092258Z
LAST-MODIFIED:20210801T092258Z
UID:9402-1634461200-1634472900@rccgregina.org
SUMMARY:Celebration Service: In-Person & Online
DESCRIPTION:
URL:https://rccgregina.org/event/celebration-service-in-person-online-3/
LOCATION:SK
CATEGORIES:ministry
END:VEVENT
BEGIN:VEVENT
DTSTART;TZID=America/Regina:20211015T230000
DTEND;TZID=America/Regina:20211016T010000
DTSTAMP:20260425T061647
CREATED:20201119T210628Z
LAST-MODIFIED:20201119T210628Z
UID:9286-1634338800-1634346000@rccgregina.org
SUMMARY:Parish Vigil
DESCRIPTION:
URL:https://rccgregina.org/event/november-parish-vigil/
LOCATION:SK
END:VEVENT
BEGIN:VEVENT
DTSTART;TZID=America/Regina:20211010T093000
DTEND;TZID=America/Regina:20211010T121500
DTSTAMP:20260425T061647
CREATED:20210801T092233Z
LAST-MODIFIED:20210801T092233Z
UID:9400-1633858200-1633868100@rccgregina.org
SUMMARY:Celebration Service: In-Person & Online
DESCRIPTION:
URL:https://rccgregina.org/event/celebration-service-in-person-online-2/
LOCATION:SK
CATEGORIES:ministry
END:VEVENT
BEGIN:VEVENT
DTSTART;TZID=America/Regina:20211003T093000
DTEND;TZID=America/Regina:20211003T121500
DTSTAMP:20260425T061647
CREATED:20180901T170237Z
LAST-MODIFIED:20180901T170237Z
UID:8772-1633253400-1633263300@rccgregina.org
SUMMARY:Thanksgiving and Celebration Service
DESCRIPTION:
URL:https://rccgregina.org/event/thanksgiving-and-celebration-service/
LOCATION:Church Auditorium\, 1171 Broder St\, REGINA\, SK\, S4N 3R1\, Canada
CATEGORIES:ministry
ATTACH;FMTTYPE=:
END:VEVENT
BEGIN:VEVENT
DTSTART;VALUE=DATE:20210801
DTEND;VALUE=DATE:20210804
DTSTAMP:20260425T061647
CREATED:20180901T165105Z
LAST-MODIFIED:20180901T165105Z
UID:8765-1627776000-1628035199@rccgregina.org
SUMMARY:Prayer and Fasting
DESCRIPTION:
URL:https://rccgregina.org/event/prayer-and-fasting-2/
LOCATION:SK
ATTACH;FMTTYPE=:
END:VEVENT
BEGIN:VEVENT
DTSTART;TZID=America/Regina:20210724T080000
DTEND;TZID=America/Regina:20210725T170000
DTSTAMP:20260425T061647
CREATED:20180701T071738Z
LAST-MODIFIED:20180701T071738Z
UID:8751-1627113600-1627232400@rccgregina.org
SUMMARY:Women's Weekend
DESCRIPTION:
URL:https://rccgregina.org/event/womens-weekend/
LOCATION:SK
ATTACH;FMTTYPE=:
END:VEVENT
BEGIN:VEVENT
DTSTART;TZID=America/Regina:20201115T093000
DTEND;TZID=America/Regina:20201115T121500
DTSTAMP:20260425T061647
CREATED:20201101T081759Z
LAST-MODIFIED:20201101T081759Z
UID:9276-1605432600-1605442500@rccgregina.org
SUMMARY:Sermon/Teaching Sunday | In-Person and Online
DESCRIPTION:Sermon/Teaching Sunday | In-Person and Online
URL:https://rccgregina.org/event/sermon-teaching-sunday-in-person-and-online/
LOCATION:SK
CATEGORIES:ministry
END:VEVENT
END:VCALENDAR