BEGIN:VCALENDAR
VERSION:2.0
PRODID:-//RCCG Mount Zion Parish, Regina Saskatchewan, Canada - ECPv6.15.20//NONSGML v1.0//EN
CALSCALE:GREGORIAN
METHOD:PUBLISH
X-WR-CALNAME:RCCG Mount Zion Parish, Regina Saskatchewan, Canada
X-ORIGINAL-URL:https://rccgregina.org
X-WR-CALDESC:Events for RCCG Mount Zion Parish, Regina Saskatchewan, Canada
REFRESH-INTERVAL;VALUE=DURATION:PT1H
X-Robots-Tag:noindex
X-PUBLISHED-TTL:PT1H
BEGIN:VTIMEZONE
TZID:America/Toronto
BEGIN:DAYLIGHT
TZOFFSETFROM:-0500
TZOFFSETTO:-0400
TZNAME:EDT
DTSTART:20150308T070000
END:DAYLIGHT
BEGIN:STANDARD
TZOFFSETFROM:-0400
TZOFFSETTO:-0500
TZNAME:EST
DTSTART:20151101T060000
END:STANDARD
BEGIN:DAYLIGHT
TZOFFSETFROM:-0500
TZOFFSETTO:-0400
TZNAME:EDT
DTSTART:20160313T070000
END:DAYLIGHT
BEGIN:STANDARD
TZOFFSETFROM:-0400
TZOFFSETTO:-0500
TZNAME:EST
DTSTART:20161106T060000
END:STANDARD
BEGIN:DAYLIGHT
TZOFFSETFROM:-0500
TZOFFSETTO:-0400
TZNAME:EDT
DTSTART:20170312T070000
END:DAYLIGHT
BEGIN:STANDARD
TZOFFSETFROM:-0400
TZOFFSETTO:-0500
TZNAME:EST
DTSTART:20171105T060000
END:STANDARD
END:VTIMEZONE
BEGIN:VTIMEZONE
TZID:America/Regina
BEGIN:STANDARD
TZOFFSETFROM:-0600
TZOFFSETTO:-0600
TZNAME:CST
DTSTART:20150101T000000
END:STANDARD
END:VTIMEZONE
BEGIN:VEVENT
DTSTART;VALUE=DATE:20160429
DTEND;VALUE=DATE:20160502
DTSTAMP:20260425T061025
CREATED:20160404T075206Z
LAST-MODIFIED:20160404T075206Z
UID:8237-1461888000-1462147199@rccgregina.org
SUMMARY:Youth Retreat
DESCRIPTION:Theme: There is a time for everything – Eccl 3:1\nFeaturing:\n– Time management\n– Knowing your purpose and the of God\n– Finace management (Building your saving)\n– Premarital sex/Courtship/Relationship/Marriage
URL:https://rccgregina.org/event/youth-retreat/
LOCATION:Caronport\, 510  College Dr Caronport. SK\, REGINA\, SK\, S0H 0S0\, Canada
ATTACH;FMTTYPE=:
END:VEVENT
BEGIN:VEVENT
DTSTART;TZID=America/Regina:20160424T093000
DTEND;TZID=America/Regina:20160424T121500
DTSTAMP:20260425T061025
CREATED:20160404T075100Z
LAST-MODIFIED:20160404T075100Z
UID:8236-1461490200-1461500100@rccgregina.org
SUMMARY:Guest Minister
DESCRIPTION:
URL:https://rccgregina.org/event/guest-minister/
LOCATION:Church Auditorium\, 1171 Broder St\, REGINA\, SK\, S4N 3R1\, Canada
END:VEVENT
BEGIN:VEVENT
DTSTART;TZID=America/Regina:20160415T220000
DTEND;TZID=America/Regina:20160416T020000
DTSTAMP:20260425T061025
CREATED:20160422T050049Z
LAST-MODIFIED:20160422T050049Z
UID:8235-1460757600-1460772000@rccgregina.org
SUMMARY:Parish Vigil
DESCRIPTION:
URL:https://rccgregina.org/event/parish-vigil/
LOCATION:Church Auditorium\, 1171 Broder St\, REGINA\, SK\, S4N 3R1\, Canada
END:VEVENT
BEGIN:VEVENT
DTSTART;TZID=America/Regina:20160327T100000
DTEND;TZID=America/Regina:20160327T121500
DTSTAMP:20260425T061025
CREATED:20160317T165615Z
LAST-MODIFIED:20160317T165615Z
UID:7900-1459072800-1459080900@rccgregina.org
SUMMARY:Special Easter Sunday Service
DESCRIPTION:Theme: The Power of His Resurrection (Philippians 3:10)
URL:https://rccgregina.org/event/celebration-service-2/
LOCATION:Church Auditorium\, 1171 Broder St\, REGINA\, SK\, S4N 3R1\, Canada
END:VEVENT
BEGIN:VEVENT
DTSTART;TZID=America/Regina:20160313T085500
DTEND;TZID=America/Regina:20160313T125900
DTSTAMP:20260425T061025
CREATED:20150615T143901Z
LAST-MODIFIED:20150615T143901Z
UID:7203-1457859300-1457873940@rccgregina.org
SUMMARY:Special Church Guest:
DESCRIPTION:
URL:https://rccgregina.org/event/special-church-guest-pastor-john-doe/
LOCATION:Church Auditorium\, 1171 Broder St\, REGINA\, SK\, S4N 3R1\, Canada
ATTACH;FMTTYPE=:
END:VEVENT
END:VCALENDAR