BEGIN:VCALENDAR
VERSION:2.0
PRODID:-//RCCG Mount Zion Parish, Regina Saskatchewan, Canada - ECPv6.15.20//NONSGML v1.0//EN
CALSCALE:GREGORIAN
METHOD:PUBLISH
X-WR-CALNAME:RCCG Mount Zion Parish, Regina Saskatchewan, Canada
X-ORIGINAL-URL:https://rccgregina.org
X-WR-CALDESC:Events for RCCG Mount Zion Parish, Regina Saskatchewan, Canada
REFRESH-INTERVAL;VALUE=DURATION:PT1H
X-Robots-Tag:noindex
X-PUBLISHED-TTL:PT1H
BEGIN:VTIMEZONE
TZID:America/Regina
BEGIN:STANDARD
TZOFFSETFROM:-0600
TZOFFSETTO:-0600
TZNAME:CST
DTSTART:20240101T000000
END:STANDARD
END:VTIMEZONE
BEGIN:VEVENT
DTSTART;TZID=America/Regina:20250803T090000
DTEND;TZID=America/Regina:20250803T123000
DTSTAMP:20260425T082521
CREATED:20250713T063645Z
LAST-MODIFIED:20250713T063645Z
UID:11321-1754211600-1754224200@rccgregina.org
SUMMARY:Thanksgiving Service
DESCRIPTION:Join us for a special Thanksgiving Service at RCCG Mount Zion Parish\, as we celebrate God’s faithfulness\, grace\, and abundant blessings. Let’s lift our voices in praise and gratitude for all He has done! 🎉🙏 #GreatThanksgiving #RCCGMountZion \n🌟 “Enter His gates with thanksgiving!” – Psalm 100:4
URL:https://rccgregina.org/event/thanksgiving-service-5/
LOCATION:Church Auditorium\, 1171 Broder St\, REGINA\, SK\, S4N 3R1\, Canada
ATTACH;FMTTYPE=image/png:https://rccgregina.org/wp-content/uploads/2024/10/sa1.png
END:VEVENT
BEGIN:VEVENT
DTSTART;TZID=America/Regina:20250806T193000
DTEND;TZID=America/Regina:20250806T210000
DTSTAMP:20260425T082521
CREATED:20250301T174018Z
LAST-MODIFIED:20250710T003635Z
UID:11010-1754508600-1754514000@rccgregina.org
SUMMARY:Holy Communion
DESCRIPTION:Join Us for a Supernatural Encounter at Holy Communion \nCome and experience the grace\, love\, and power of Christ at our Holy Communion Service. As we partake in the Lord’s Table\, we remember His sacrifice\, renew our faith\, and receive spiritual strength for the journey ahead. \n 
URL:https://rccgregina.org/event/holy-communion/
LOCATION:Church Auditorium\, 1171 Broder St\, REGINA\, SK\, S4N 3R1\, Canada
ATTACH;FMTTYPE=image/jpeg:https://rccgregina.org/wp-content/uploads/2025/02/HolyCommunion.jpg
END:VEVENT
BEGIN:VEVENT
DTSTART;TZID=America/Regina:20250810T090000
DTEND;TZID=America/Regina:20250810T123000
DTSTAMP:20260425T082521
CREATED:20250201T075758Z
LAST-MODIFIED:20250729T053132Z
UID:10891-1754816400-1754829000@rccgregina.org
SUMMARY:Teenagers Weekend
DESCRIPTION:Teenagers Weekend is a vibrant service where the teenagers of our church take full leadership—bringing energy\, creativity\, and passion to every part of the worship experience. From leading worship and prayers to preaching the Word\, our teenagers step up to serve God and inspire the church. It’s more than just a weekend—it’s a platform for nurturing young leaders and showing that God uses people of every age for His glory.
URL:https://rccgregina.org/event/sunday-service-4/
LOCATION:Church Auditorium\, 1171 Broder St\, REGINA\, SK\, S4N 3R1\, Canada
CATEGORIES:ministry
ATTACH;FMTTYPE=image/jpeg:https://rccgregina.org/wp-content/uploads/2025/02/Teenage-2.jpg
END:VEVENT
BEGIN:VEVENT
DTSTART;TZID=America/Regina:20250813T193000
DTEND;TZID=America/Regina:20250813T210000
DTSTAMP:20260425T082521
CREATED:20250724T055243Z
LAST-MODIFIED:20250724T055243Z
UID:11330-1755113400-1755118800@rccgregina.org
SUMMARY:Bible Study
DESCRIPTION:Join us for an inspiring journey through God’s Word! Together\, we’ll explore life-changing truths\, find answers to pressing questions\, and deepen our relationship with Christ. Don’t miss this time of growth and fellowship!.
URL:https://rccgregina.org/event/bible-study-10/
LOCATION:Church Auditorium\, 1171 Broder St\, REGINA\, SK\, S4N 3R1\, Canada
ATTACH;FMTTYPE=image/jpeg:https://rccgregina.org/wp-content/uploads/2024/12/bible-study-e1734657902949.jpg
END:VEVENT
BEGIN:VEVENT
DTSTART;TZID=America/Regina:20250816T120000
DTEND;TZID=America/Regina:20250816T170000
DTSTAMP:20260425T082521
CREATED:20250724T071546Z
LAST-MODIFIED:20250724T071927Z
UID:11335-1755345600-1755363600@rccgregina.org
SUMMARY:Church Barbeque & Fun Day
DESCRIPTION:Join Us for Our Church BBQ & Fun Day! 🍔⚽ \nCome enjoy a day filled with food\, fellowship\, and fun!🔥 BBQ Feast⚽ Men vs Youth Soccer Match🏃‍♀️ Women & Youth Race🎯 Games for All Ages \nBring your family and friends — let’s make memories together!
URL:https://rccgregina.org/event/church-barbeque-fun-day/
LOCATION:Church Auditorium\, 1171 Broder St\, REGINA\, SK\, S4N 3R1\, Canada
ATTACH;FMTTYPE=image/jpeg:https://rccgregina.org/wp-content/uploads/2025/07/bbq.jpg
END:VEVENT
BEGIN:VEVENT
DTSTART;TZID=America/Regina:20250817T090000
DTEND;TZID=America/Regina:20250817T123000
DTSTAMP:20260425T082521
CREATED:20250713T064240Z
LAST-MODIFIED:20250713T064240Z
UID:11324-1755421200-1755433800@rccgregina.org
SUMMARY:Sunday Service
DESCRIPTION:Join us this Sunday for a time of worship\, uplifting messages\, and fellowship. Let’s grow together in faith and experience God’s love in a fresh way. All are welcome!
URL:https://rccgregina.org/event/sunday-service-16/
LOCATION:Church Auditorium\, 1171 Broder St\, REGINA\, SK\, S4N 3R1\, Canada
CATEGORIES:ministry
ATTACH;FMTTYPE=image/png:https://rccgregina.org/wp-content/uploads/2025/06/Sunday-Service.png
END:VEVENT
BEGIN:VEVENT
DTSTART;TZID=America/Regina:20250820T193000
DTEND;TZID=America/Regina:20250820T210000
DTSTAMP:20260425T082521
CREATED:20250201T072929Z
LAST-MODIFIED:20250724T055531Z
UID:10886-1755718200-1755723600@rccgregina.org
SUMMARY:Bible Study
DESCRIPTION:Join us for an inspiring journey through God’s Word! Together\, we’ll explore life-changing truths\, find answers to pressing questions\, and deepen our relationship with Christ. Don’t miss this time of growth and fellowship!.
URL:https://rccgregina.org/event/bible-study-7/
LOCATION:Church Auditorium\, 1171 Broder St\, REGINA\, SK\, S4N 3R1\, Canada
ATTACH;FMTTYPE=image/jpeg:https://rccgregina.org/wp-content/uploads/2024/12/bible-study-e1734657902949.jpg
END:VEVENT
BEGIN:VEVENT
DTSTART;TZID=America/Regina:20250823T110000
DTEND;TZID=America/Regina:20250823T140000
DTSTAMP:20260425T082521
CREATED:20250729T061441Z
LAST-MODIFIED:20250820T023856Z
UID:11347-1755946800-1755957600@rccgregina.org
SUMMARY:Annual Public Lecture
DESCRIPTION:Our Annual Public Lecture is a dynamic and informative session designed for high school and university students—including both local and international attendees. This year’s lecture will cover essential topics such as: \n✅ Choosing the right career path✅ Navigating life as an international student✅ Understanding immigration rules and academic policies✅ Building confidence and character for future success \nWhether you’re a student preparing for the next phase of your journey or a parent looking to empower your child\, this session offers the guidance and inspiration needed for success. \nCome\, learn\, grow\, and take your next steps with clarity and confidence!
URL:https://rccgregina.org/event/annual-public-lecture/
LOCATION:Church Auditorium\, 1171 Broder St\, REGINA\, SK\, S4N 3R1\, Canada
CATEGORIES:ministry
ATTACH;FMTTYPE=image/png:https://rccgregina.org/wp-content/uploads/2025/08/Lecture-2b.png
END:VEVENT
BEGIN:VEVENT
DTSTART;TZID=America/Regina:20250824T090000
DTEND;TZID=America/Regina:20250824T123000
DTSTAMP:20260425T082521
CREATED:20250713T064426Z
LAST-MODIFIED:20250713T064426Z
UID:11326-1756026000-1756038600@rccgregina.org
SUMMARY:Sunday Service
DESCRIPTION:Join us this Sunday for a time of worship\, uplifting messages\, and fellowship. Let’s grow together in faith and experience God’s love in a fresh way. All are welcome!
URL:https://rccgregina.org/event/sunday-service-17/
LOCATION:Church Auditorium\, 1171 Broder St\, REGINA\, SK\, S4N 3R1\, Canada
CATEGORIES:ministry
ATTACH;FMTTYPE=image/png:https://rccgregina.org/wp-content/uploads/2025/06/Sunday-Service.png
END:VEVENT
BEGIN:VEVENT
DTSTART;TZID=America/Regina:20250827T193000
DTEND;TZID=America/Regina:20250827T210000
DTSTAMP:20260425T082521
CREATED:20250724T055814Z
LAST-MODIFIED:20250724T055814Z
UID:11332-1756323000-1756328400@rccgregina.org
SUMMARY:Bible Study
DESCRIPTION:Join us for an inspiring journey through God’s Word! Together\, we’ll explore life-changing truths\, find answers to pressing questions\, and deepen our relationship with Christ. Don’t miss this time of growth and fellowship!.
URL:https://rccgregina.org/event/bible-study-11/
LOCATION:Church Auditorium\, 1171 Broder St\, REGINA\, SK\, S4N 3R1\, Canada
ATTACH;FMTTYPE=image/jpeg:https://rccgregina.org/wp-content/uploads/2024/12/bible-study-e1734657902949.jpg
END:VEVENT
BEGIN:VEVENT
DTSTART;TZID=America/Regina:20250829T190000
DTEND;TZID=America/Regina:20250829T210000
DTSTAMP:20260425T082521
CREATED:20250729T053623Z
LAST-MODIFIED:20250803T065032Z
UID:11345-1756494000-1756501200@rccgregina.org
SUMMARY:Choir Musical Concert
DESCRIPTION:Join us for a powerful night of praise\, worship\, and musical excellence at our Choir Musical Concert! Come experience the beauty of voices lifted in harmony as our choir ministers songs that stir the soul and glorify God. Whether you’re a music lover\, worshipper\, or just curious—this is an evening you won’t want to miss. \nCome\, be blessed\, and let your spirit be lifted through song!
URL:https://rccgregina.org/event/choir-musical-concert/
LOCATION:Church Auditorium\, 1171 Broder St\, REGINA\, SK\, S4N 3R1\, Canada
CATEGORIES:ministry
ATTACH;FMTTYPE=image/jpeg:https://rccgregina.org/wp-content/uploads/2025/07/Concert.jpg
END:VEVENT
BEGIN:VEVENT
DTSTART;TZID=America/Regina:20250831T090000
DTEND;TZID=America/Regina:20250831T123000
DTSTAMP:20260425T082521
CREATED:20250713T064645Z
LAST-MODIFIED:20250730T043917Z
UID:11328-1756630800-1756643400@rccgregina.org
SUMMARY:Family Sunday
DESCRIPTION:Join us this Sunday for Family Sunday. Family Sunday is a special service where families take the lead in every part of worship. From praise and worship to announcements\, scripture reading\, and even the sermon\, different families come together to serve and minister as one body. It’s a beautiful celebration of unity\, love\, and generational faith—showing that church isn’t just a place we go\, but a family we grow in together.
URL:https://rccgregina.org/event/sunday-service-18/
LOCATION:Church Auditorium\, 1171 Broder St\, REGINA\, SK\, S4N 3R1\, Canada
CATEGORIES:ministry
ATTACH;FMTTYPE=image/png:https://rccgregina.org/wp-content/uploads/2025/07/Public-Annual-Lecture.png
END:VEVENT
BEGIN:VEVENT
DTSTART;TZID=America/Regina:20250903T193000
DTEND;TZID=America/Regina:20250903T210000
DTSTAMP:20260425T082521
CREATED:20250703T012905Z
LAST-MODIFIED:20250820T023809Z
UID:11218-1756927800-1756933200@rccgregina.org
SUMMARY:Holy Communion
DESCRIPTION:
URL:https://rccgregina.org/event/holy-communion-2/
LOCATION:SK
ATTACH;FMTTYPE=image/jpeg:https://rccgregina.org/wp-content/uploads/2025/02/HolyCommunion.jpg
END:VEVENT
BEGIN:VEVENT
DTSTART;TZID=America/Regina:20250907T090000
DTEND;TZID=America/Regina:20250907T123000
DTSTAMP:20260425T082521
CREATED:20250627T174610Z
LAST-MODIFIED:20250820T015520Z
UID:11240-1757235600-1757248200@rccgregina.org
SUMMARY:Thanksgiving Service
DESCRIPTION:Join us for a special Thanksgiving Service at RCCG Mount Zion Parish on September 7\, 2025\, as we celebrate God’s faithfulness\, grace\, and abundant blessings. Let’s lift our voices in praise and gratitude for all He has done! 🎉🙏 #GreatThanksgiving #RCCGMountZion \n⏰ Time: 9:00am\n🌟 “Enter His gates with thanksgiving!” – Psalm 100:4
URL:https://rccgregina.org/event/thanksgiving-service-4/
LOCATION:Church Auditorium\, 1171 Broder St\, REGINA\, SK\, S4N 3R1\, Canada
ATTACH;FMTTYPE=image/jpeg:https://rccgregina.org/wp-content/uploads/2025/02/gallary-6.jpg
END:VEVENT
BEGIN:VEVENT
DTSTART;TZID=America/Regina:20250910T193000
DTEND;TZID=America/Regina:20250910T210000
DTSTAMP:20260425T082521
CREATED:20250706T023256Z
LAST-MODIFIED:20250820T023753Z
UID:11224-1757532600-1757538000@rccgregina.org
SUMMARY:Mid-Week Service
DESCRIPTION:📖 Join Us for Bible Study! \nCome gather with us as we explore the Word\, grow in faith\, and share in fellowship. Whether you’re new to scripture or a seasoned reader\, there’s a seat for you. \n🕖 Time: 7:30pm \nLet’s journey together through God’s truth and encouragement. Hope to see you there!
URL:https://rccgregina.org/event/mid-week-service-3/
LOCATION:Church Auditorium\, 1171 Broder St\, REGINA\, SK\, S4N 3R1\, Canada
ATTACH;FMTTYPE=image/png:https://rccgregina.org/wp-content/uploads/2025/06/midweek.png
END:VEVENT
BEGIN:VEVENT
DTSTART;TZID=America/Regina:20250914T090000
DTEND;TZID=America/Regina:20250914T123000
DTSTAMP:20260425T082521
CREATED:20250820T023849Z
LAST-MODIFIED:20250820T023849Z
UID:11391-1757840400-1757853000@rccgregina.org
SUMMARY:Sunday Service
DESCRIPTION:Join us this Sunday for a time of worship\, uplifting messages\, and fellowship. Let’s grow together in faith and experience God’s love in a fresh way. All are welcome!
URL:https://rccgregina.org/event/sunday-service-19/
LOCATION:Church Auditorium\, 1171 Broder St\, REGINA\, SK\, S4N 3R1\, Canada
CATEGORIES:ministry
ATTACH;FMTTYPE=image/png:https://rccgregina.org/wp-content/uploads/2025/06/Sunday-Service.png
END:VEVENT
BEGIN:VEVENT
DTSTART;TZID=America/Regina:20250917T193000
DTEND;TZID=America/Regina:20250917T210000
DTSTAMP:20260425T082521
CREATED:20250820T022044Z
LAST-MODIFIED:20250820T022044Z
UID:11383-1758137400-1758142800@rccgregina.org
SUMMARY:Mid-Week Service
DESCRIPTION:📖 Join Us for Bible Study! \nCome gather with us as we explore the Word\, grow in faith\, and share in fellowship. Whether you’re new to scripture or a seasoned reader\, there’s a seat for you. \n🕖 Time: 7:30pm \nLet’s journey together through God’s truth and encouragement. Hope to see you there!
URL:https://rccgregina.org/event/mid-week-service-5/
LOCATION:Church Auditorium\, 1171 Broder St\, REGINA\, SK\, S4N 3R1\, Canada
ATTACH;FMTTYPE=image/png:https://rccgregina.org/wp-content/uploads/2025/06/midweek.png
END:VEVENT
BEGIN:VEVENT
DTSTART;TZID=America/Regina:20250919T090000
DTEND;TZID=America/Regina:20250921T121500
DTSTAMP:20260425T082521
CREATED:20250820T023548Z
LAST-MODIFIED:20250820T023548Z
UID:11387-1758272400-1758456900@rccgregina.org
SUMMARY:Youth Weekend
DESCRIPTION:🔥 Hey Youth! You’re Invited! \nCome hang out\, make new friends\, and grow in faith at our Church Youth Program! We’ve got games\, music\, real talk\, and plenty of good vibes. \nWhether you’re curious\, committed\, or just looking for a place to belong—this is for you. Don’t miss it!
URL:https://rccgregina.org/event/youth-weekend/
LOCATION:Church Auditorium\, 1171 Broder St\, REGINA\, SK\, S4N 3R1\, Canada
ATTACH;FMTTYPE=image/jpeg:https://rccgregina.org/wp-content/uploads/2025/08/YouthWeekend.jpg
END:VEVENT
BEGIN:VEVENT
DTSTART;TZID=America/Regina:20250924T193000
DTEND;TZID=America/Regina:20250924T210000
DTSTAMP:20260425T082521
CREATED:20250820T022500Z
LAST-MODIFIED:20250820T022500Z
UID:11385-1758742200-1758747600@rccgregina.org
SUMMARY:Mid-Week Service
DESCRIPTION:🙏 You’re Invited to a Prayer Meeting \nLet’s come together in faith and lift our hearts in prayer. Whether you’re seeking peace\, guidance\, or simply a moment of quiet connection with God\, this is a space for you. \n🕗 Time: 7:30pm \nAll are welcome—bring your hopes\, your burdens\, and your voice. Let’s pray together.
URL:https://rccgregina.org/event/mid-week-service-6/
LOCATION:Church Auditorium\, 1171 Broder St\, REGINA\, SK\, S4N 3R1\, Canada
ATTACH;FMTTYPE=image/png:https://rccgregina.org/wp-content/uploads/2025/06/midweek.png
END:VEVENT
BEGIN:VEVENT
DTSTART;TZID=America/Regina:20250928T090000
DTEND;TZID=America/Regina:20250928T123000
DTSTAMP:20260425T082521
CREATED:20250820T024021Z
LAST-MODIFIED:20250820T024021Z
UID:11393-1759050000-1759062600@rccgregina.org
SUMMARY:Sunday Service
DESCRIPTION:Join us this Sunday for a time of worship\, uplifting messages\, and fellowship. Let’s grow together in faith and experience God’s love in a fresh way. All are welcome!
URL:https://rccgregina.org/event/sunday-service-20/
LOCATION:Church Auditorium\, 1171 Broder St\, REGINA\, SK\, S4N 3R1\, Canada
CATEGORIES:ministry
ATTACH;FMTTYPE=image/png:https://rccgregina.org/wp-content/uploads/2025/06/Sunday-Service.png
END:VEVENT
BEGIN:VEVENT
DTSTART;TZID=America/Regina:20251001T193000
DTEND;TZID=America/Regina:20251001T210000
DTSTAMP:20260425T082521
CREATED:20250928T033900Z
LAST-MODIFIED:20250928T033900Z
UID:11405-1759347000-1759352400@rccgregina.org
SUMMARY:Holy Communion
DESCRIPTION:
URL:https://rccgregina.org/event/holy-communion-3/
LOCATION:SK
ATTACH;FMTTYPE=image/jpeg:https://rccgregina.org/wp-content/uploads/2025/02/HolyCommunion.jpg
END:VEVENT
BEGIN:VEVENT
DTSTART;TZID=America/Regina:20251003T183000
DTEND;TZID=America/Regina:20251003T210000
DTSTAMP:20260425T082521
CREATED:20251002T064818Z
LAST-MODIFIED:20251002T064818Z
UID:11416-1759516200-1759525200@rccgregina.org
SUMMARY:Outdoor Film show
DESCRIPTION:
URL:https://rccgregina.org/event/outdoor-film-show/
LOCATION:Church Auditorium\, 1171 Broder St\, REGINA\, SK\, S4N 3R1\, Canada
ATTACH;FMTTYPE=image/png:https://rccgregina.org/wp-content/uploads/2025/10/filmshow2.png
END:VEVENT
BEGIN:VEVENT
DTSTART;TZID=America/Regina:20251005T090000
DTEND;TZID=America/Regina:20251005T120000
DTSTAMP:20260425T082521
CREATED:20250928T033701Z
LAST-MODIFIED:20250928T033701Z
UID:11402-1759654800-1759665600@rccgregina.org
SUMMARY:Thanksgiving Service
DESCRIPTION:We warmly invite you to join us for a special Thanksgiving Service on Sunday\, October 5th\, 2025. Let’s come together to give thanks for the blessings of the past year and celebrate with gratitude and joy. \nDate: October 5\, 2025\nTime: 9:00 AM\nLocation: 1171 Broder St\, Regina\, SK\, Canada \nWe look forward to sharing this meaningful occasion with you and your loved ones.
URL:https://rccgregina.org/event/thanksgiving-service-6/
LOCATION:SK
ATTACH;FMTTYPE=image/jpeg:https://rccgregina.org/wp-content/uploads/2025/09/Thanksgiving.jpg
END:VEVENT
BEGIN:VEVENT
DTSTART;TZID=America/Regina:20251008T193000
DTEND;TZID=America/Regina:20251008T210000
DTSTAMP:20260425T082521
CREATED:20250928T034005Z
LAST-MODIFIED:20250928T034005Z
UID:11333-1759951800-1759957200@rccgregina.org
SUMMARY:Bible Study
DESCRIPTION:Join us for an inspiring journey through God’s Word! Together\, we’ll explore life-changing truths\, find answers to pressing questions\, and deepen our relationship with Christ. Don’t miss this time of growth and fellowship!.
URL:https://rccgregina.org/event/bible-study-12/
LOCATION:Church Auditorium\, 1171 Broder St\, REGINA\, SK\, S4N 3R1\, Canada
ATTACH;FMTTYPE=image/jpeg:https://rccgregina.org/wp-content/uploads/2024/12/bible-study-e1734657902949.jpg
END:VEVENT
BEGIN:VEVENT
DTSTART;TZID=America/Regina:20251012T090000
DTEND;TZID=America/Regina:20251012T123000
DTSTAMP:20260425T082521
CREATED:20250928T040818Z
LAST-MODIFIED:20250928T040818Z
UID:11408-1760259600-1760272200@rccgregina.org
SUMMARY:Sunday Service
DESCRIPTION:Join us this Sunday for a time of worship\, uplifting messages\, and fellowship. Let’s grow together in faith and experience God’s love in a fresh way. All are welcome!
URL:https://rccgregina.org/event/sunday-service-21/
LOCATION:Church Auditorium\, 1171 Broder St\, REGINA\, SK\, S4N 3R1\, Canada
CATEGORIES:ministry
ATTACH;FMTTYPE=image/jpeg:https://rccgregina.org/wp-content/uploads/2025/09/cservice.jpg
END:VEVENT
BEGIN:VEVENT
DTSTART;TZID=America/Regina:20251015T193000
DTEND;TZID=America/Regina:20251015T210000
DTSTAMP:20260425T082521
CREATED:20251005T041126Z
LAST-MODIFIED:20251005T041126Z
UID:11424-1760556600-1760562000@rccgregina.org
SUMMARY:Bible Study
DESCRIPTION:Join us for an inspiring journey through God’s Word! Together\, we’ll explore life-changing truths\, find answers to pressing questions\, and deepen our relationship with Christ. Don’t miss this time of growth and fellowship!.
URL:https://rccgregina.org/event/bible-study-13/
LOCATION:Church Auditorium\, 1171 Broder St\, REGINA\, SK\, S4N 3R1\, Canada
ATTACH;FMTTYPE=image/jpeg:https://rccgregina.org/wp-content/uploads/2024/12/bible-study-e1734657902949.jpg
END:VEVENT
BEGIN:VEVENT
DTSTART;TZID=America/Regina:20251019T090000
DTEND;TZID=America/Regina:20251019T123000
DTSTAMP:20260425T082521
CREATED:20251005T040904Z
LAST-MODIFIED:20251005T040904Z
UID:11420-1760864400-1760877000@rccgregina.org
SUMMARY:Sunday Service
DESCRIPTION:Join us this Sunday for a time of worship\, uplifting messages\, and fellowship. Let’s grow together in faith and experience God’s love in a fresh way. All are welcome!
URL:https://rccgregina.org/event/sunday-service-22/
LOCATION:Church Auditorium\, 1171 Broder St\, REGINA\, SK\, S4N 3R1\, Canada
CATEGORIES:ministry
ATTACH;FMTTYPE=image/jpeg:https://rccgregina.org/wp-content/uploads/2025/09/cservice.jpg
END:VEVENT
BEGIN:VEVENT
DTSTART;TZID=America/Regina:20251022T193000
DTEND;TZID=America/Regina:20251022T210000
DTSTAMP:20260425T082521
CREATED:20251005T041208Z
LAST-MODIFIED:20251005T041208Z
UID:11425-1761161400-1761166800@rccgregina.org
SUMMARY:Mid-Week Service
DESCRIPTION:📖 Join Us for Bible Study! \nCome gather with us as we explore the Word\, grow in faith\, and share in fellowship. Whether you’re new to scripture or a seasoned reader\, there’s a seat for you. \n🕖 Time: 7:30pm \nLet’s journey together through God’s truth and encouragement. Hope to see you there!
URL:https://rccgregina.org/event/mid-week-service-7/
LOCATION:Church Auditorium\, 1171 Broder St\, REGINA\, SK\, S4N 3R1\, Canada
ATTACH;FMTTYPE=image/png:https://rccgregina.org/wp-content/uploads/2025/06/midweek.png
END:VEVENT
BEGIN:VEVENT
DTSTART;TZID=America/Regina:20251022T193000
DTEND;TZID=America/Regina:20251022T210000
DTSTAMP:20260425T082521
CREATED:20251123T034824Z
LAST-MODIFIED:20251123T034824Z
UID:11507-1761161400-1761166800@rccgregina.org
SUMMARY:Bible Study
DESCRIPTION:📖 Join Us for Bible Study! \nCome gather with us as we explore the Word\, grow in faith\, and share in fellowship. Whether you’re new to scripture or a seasoned reader\, there’s a seat for you. \n🕖 Time: 7:30pm \nLet’s journey together through God’s truth and encouragement. Hope to see you there!
URL:https://rccgregina.org/event/bible-study-16/
LOCATION:Church Auditorium\, 1171 Broder St\, REGINA\, SK\, S4N 3R1\, Canada
ATTACH;FMTTYPE=image/png:https://rccgregina.org/wp-content/uploads/2025/06/midweek.png
END:VEVENT
BEGIN:VEVENT
DTSTART;TZID=America/Regina:20251026T090000
DTEND;TZID=America/Regina:20251026T123000
DTSTAMP:20260425T082521
CREATED:20251005T040953Z
LAST-MODIFIED:20251005T040953Z
UID:11422-1761469200-1761481800@rccgregina.org
SUMMARY:Sunday Service
DESCRIPTION:Join us this Sunday for a time of worship\, uplifting messages\, and fellowship. Let’s grow together in faith and experience God’s love in a fresh way. All are welcome!
URL:https://rccgregina.org/event/sunday-service-23/
LOCATION:Church Auditorium\, 1171 Broder St\, REGINA\, SK\, S4N 3R1\, Canada
CATEGORIES:ministry
ATTACH;FMTTYPE=image/jpeg:https://rccgregina.org/wp-content/uploads/2025/09/cservice.jpg
END:VEVENT
END:VCALENDAR