BEGIN:VCALENDAR
VERSION:2.0
PRODID:-//RCCG Mount Zion Parish, Regina Saskatchewan, Canada - ECPv6.15.20//NONSGML v1.0//EN
CALSCALE:GREGORIAN
METHOD:PUBLISH
X-WR-CALNAME:RCCG Mount Zion Parish, Regina Saskatchewan, Canada
X-ORIGINAL-URL:https://rccgregina.org
X-WR-CALDESC:Events for RCCG Mount Zion Parish, Regina Saskatchewan, Canada
REFRESH-INTERVAL;VALUE=DURATION:PT1H
X-Robots-Tag:noindex
X-PUBLISHED-TTL:PT1H
BEGIN:VTIMEZONE
TZID:America/Regina
BEGIN:STANDARD
TZOFFSETFROM:-0600
TZOFFSETTO:-0600
TZNAME:CST
DTSTART:20240101T000000
END:STANDARD
END:VTIMEZONE
BEGIN:VEVENT
DTSTART;TZID=America/Regina:20250813T193000
DTEND;TZID=America/Regina:20250813T210000
DTSTAMP:20260424T043732
CREATED:20250724T055243Z
LAST-MODIFIED:20250724T055243Z
UID:11330-1755113400-1755118800@rccgregina.org
SUMMARY:Bible Study
DESCRIPTION:Join us for an inspiring journey through God’s Word! Together\, we’ll explore life-changing truths\, find answers to pressing questions\, and deepen our relationship with Christ. Don’t miss this time of growth and fellowship!.
URL:https://rccgregina.org/event/bible-study-10/
LOCATION:Church Auditorium\, 1171 Broder St\, REGINA\, SK\, S4N 3R1\, Canada
ATTACH;FMTTYPE=image/jpeg:https://rccgregina.org/wp-content/uploads/2024/12/bible-study-e1734657902949.jpg
END:VEVENT
BEGIN:VEVENT
DTSTART;TZID=America/Regina:20250810T090000
DTEND;TZID=America/Regina:20250810T123000
DTSTAMP:20260424T043732
CREATED:20250201T075758Z
LAST-MODIFIED:20250729T053132Z
UID:10891-1754816400-1754829000@rccgregina.org
SUMMARY:Teenagers Weekend
DESCRIPTION:Teenagers Weekend is a vibrant service where the teenagers of our church take full leadership—bringing energy\, creativity\, and passion to every part of the worship experience. From leading worship and prayers to preaching the Word\, our teenagers step up to serve God and inspire the church. It’s more than just a weekend—it’s a platform for nurturing young leaders and showing that God uses people of every age for His glory.
URL:https://rccgregina.org/event/sunday-service-4/
LOCATION:Church Auditorium\, 1171 Broder St\, REGINA\, SK\, S4N 3R1\, Canada
CATEGORIES:ministry
ATTACH;FMTTYPE=image/jpeg:https://rccgregina.org/wp-content/uploads/2025/02/Teenage-2.jpg
END:VEVENT
BEGIN:VEVENT
DTSTART;TZID=America/Regina:20250806T193000
DTEND;TZID=America/Regina:20250806T210000
DTSTAMP:20260424T043732
CREATED:20250301T174018Z
LAST-MODIFIED:20250710T003635Z
UID:11010-1754508600-1754514000@rccgregina.org
SUMMARY:Holy Communion
DESCRIPTION:Join Us for a Supernatural Encounter at Holy Communion \nCome and experience the grace\, love\, and power of Christ at our Holy Communion Service. As we partake in the Lord’s Table\, we remember His sacrifice\, renew our faith\, and receive spiritual strength for the journey ahead. \n 
URL:https://rccgregina.org/event/holy-communion/
LOCATION:Church Auditorium\, 1171 Broder St\, REGINA\, SK\, S4N 3R1\, Canada
ATTACH;FMTTYPE=image/jpeg:https://rccgregina.org/wp-content/uploads/2025/02/HolyCommunion.jpg
END:VEVENT
BEGIN:VEVENT
DTSTART;TZID=America/Regina:20250803T090000
DTEND;TZID=America/Regina:20250803T123000
DTSTAMP:20260424T043732
CREATED:20250713T063645Z
LAST-MODIFIED:20250713T063645Z
UID:11321-1754211600-1754224200@rccgregina.org
SUMMARY:Thanksgiving Service
DESCRIPTION:Join us for a special Thanksgiving Service at RCCG Mount Zion Parish\, as we celebrate God’s faithfulness\, grace\, and abundant blessings. Let’s lift our voices in praise and gratitude for all He has done! 🎉🙏 #GreatThanksgiving #RCCGMountZion \n🌟 “Enter His gates with thanksgiving!” – Psalm 100:4
URL:https://rccgregina.org/event/thanksgiving-service-5/
LOCATION:Church Auditorium\, 1171 Broder St\, REGINA\, SK\, S4N 3R1\, Canada
ATTACH;FMTTYPE=image/png:https://rccgregina.org/wp-content/uploads/2024/10/sa1.png
END:VEVENT
BEGIN:VEVENT
DTSTART;TZID=America/Regina:20250730T193000
DTEND;TZID=America/Regina:20250730T210000
DTSTAMP:20260424T043732
CREATED:20250706T024105Z
LAST-MODIFIED:20250706T024105Z
UID:11226-1753903800-1753909200@rccgregina.org
SUMMARY:Mid-Week Service
DESCRIPTION:
URL:https://rccgregina.org/event/mid-week-service-4/
LOCATION:Church Auditorium\, 1171 Broder St\, REGINA\, SK\, S4N 3R1\, Canada
ATTACH;FMTTYPE=image/png:https://rccgregina.org/wp-content/uploads/2025/06/midweek.png
END:VEVENT
BEGIN:VEVENT
DTSTART;TZID=America/Regina:20250727T090000
DTEND;TZID=America/Regina:20250727T123000
DTSTAMP:20260424T043732
CREATED:20250706T023903Z
LAST-MODIFIED:20250706T023903Z
UID:11216-1753606800-1753619400@rccgregina.org
SUMMARY:Sunday Service
DESCRIPTION:
URL:https://rccgregina.org/event/sunday-service-15/
LOCATION:Church Auditorium\, 1171 Broder St\, REGINA\, SK\, S4N 3R1\, Canada
ATTACH;FMTTYPE=image/png:https://rccgregina.org/wp-content/uploads/2025/06/Sunday-Service.png
END:VEVENT
BEGIN:VEVENT
DTSTART;TZID=America/Regina:20250720T090000
DTEND;TZID=America/Regina:20250720T123000
DTSTAMP:20260424T043732
CREATED:20250706T022427Z
LAST-MODIFIED:20250706T022428Z
UID:11214-1753002000-1753014600@rccgregina.org
SUMMARY:Sunday Service
DESCRIPTION:
URL:https://rccgregina.org/event/sunday-service-14/
LOCATION:Church Auditorium\, 1171 Broder St\, REGINA\, SK\, S4N 3R1\, Canada
ATTACH;FMTTYPE=image/png:https://rccgregina.org/wp-content/uploads/2025/06/SundayService.png
END:VEVENT
BEGIN:VEVENT
DTSTART;TZID=America/Regina:20251017T230000
DTEND;TZID=America/Regina:20251017T230000
DTSTAMP:20260424T043732
CREATED:20251005T041504Z
LAST-MODIFIED:20251005T041504Z
UID:11428-1760742000-1760742000@rccgregina.org
SUMMARY:Vigil
DESCRIPTION:
URL:https://rccgregina.org/event/vigil-4/
LOCATION:Church Auditorium\, 1171 Broder St\, REGINA\, SK\, S4N 3R1\, Canada
ATTACH;FMTTYPE=image/png:https://rccgregina.org/wp-content/uploads/2025/06/Vigil.png
END:VEVENT
BEGIN:VEVENT
DTSTART;TZID=America/Regina:20250718T230000
DTEND;TZID=America/Regina:20250718T230000
DTSTAMP:20260424T043732
CREATED:20250706T020935Z
LAST-MODIFIED:20250706T021605Z
UID:11228-1752879600-1752879600@rccgregina.org
SUMMARY:Vigil
DESCRIPTION:
URL:https://rccgregina.org/event/vigil-3/
LOCATION:Church Auditorium\, 1171 Broder St\, REGINA\, SK\, S4N 3R1\, Canada
ATTACH;FMTTYPE=image/png:https://rccgregina.org/wp-content/uploads/2025/06/Vigil.png
END:VEVENT
BEGIN:VEVENT
DTSTART;TZID=America/Regina:20250716T193000
DTEND;TZID=America/Regina:20250716T210000
DTSTAMP:20260424T043732
CREATED:20250706T014600Z
LAST-MODIFIED:20250706T014929Z
UID:11222-1752694200-1752699600@rccgregina.org
SUMMARY:Mid-Week Service
DESCRIPTION:
URL:https://rccgregina.org/event/mid-week-service-2/
LOCATION:Church Auditorium\, 1171 Broder St\, REGINA\, SK\, S4N 3R1\, Canada
ATTACH;FMTTYPE=image/jpeg:https://rccgregina.org/wp-content/uploads/2024/12/bible-study-e1734657902949.jpg
END:VEVENT
BEGIN:VEVENT
DTSTART;TZID=America/Regina:20250713T090000
DTEND;TZID=America/Regina:20250713T123000
DTSTAMP:20260424T043732
CREATED:20250703T013351Z
LAST-MODIFIED:20250703T013351Z
UID:11212-1752397200-1752409800@rccgregina.org
SUMMARY:Sunday Service
DESCRIPTION:
URL:https://rccgregina.org/event/sunday-service-13/
LOCATION:Church Auditorium\, 1171 Broder St\, REGINA\, SK\, S4N 3R1\, Canada
ATTACH;FMTTYPE=image/jpeg:https://rccgregina.org/wp-content/uploads/2025/02/choirOnstage.jpg
END:VEVENT
BEGIN:VEVENT
DTSTART;TZID=America/Regina:20250709T193000
DTEND;TZID=America/Regina:20250709T210000
DTSTAMP:20260424T043732
CREATED:20250703T013101Z
LAST-MODIFIED:20250703T013101Z
UID:11220-1752089400-1752094800@rccgregina.org
SUMMARY:Mid-Week Service
DESCRIPTION:
URL:https://rccgregina.org/event/mid-week-service/
LOCATION:SK
ATTACH;FMTTYPE=image/jpeg:https://rccgregina.org/wp-content/uploads/2025/01/prayer.jpg
END:VEVENT
BEGIN:VEVENT
DTSTART;TZID=America/Regina:20250629T090000
DTEND;TZID=America/Regina:20250629T123000
DTSTAMP:20260424T043732
CREATED:20250531T052158Z
LAST-MODIFIED:20250531T052927Z
UID:11189-1751187600-1751200200@rccgregina.org
SUMMARY:Sunday Service
DESCRIPTION:Join us this Sunday for a time of worship\, uplifting messages\, and fellowship. Let’s grow together in faith and experience God’s love in a fresh way. All are welcome!
URL:https://rccgregina.org/event/sunday-service-12/
LOCATION:Church Auditorium\, 1171 Broder St\, REGINA\, SK\, S4N 3R1\, Canada
ATTACH;FMTTYPE=image/jpeg:https://rccgregina.org/wp-content/uploads/2024/12/church-1@0.75x@0.75x.jpg
END:VEVENT
BEGIN:VEVENT
DTSTART;TZID=America/Regina:20250628T150000
DTEND;TZID=America/Regina:20250628T190000
DTSTAMP:20260424T043732
CREATED:20250620T163606Z
LAST-MODIFIED:20250620T163606Z
UID:11205-1751122800-1751137200@rccgregina.org
SUMMARY:Inter-House Sport and Picnic
DESCRIPTION:Join us for an exciting afternoon of fun\, games\, dancing\, sports and barbeque. \nDon’t miss it!
URL:https://rccgregina.org/event/inter-house-sport-and-picnic/
LOCATION:EastView Park\, Regina\, SK\, Canada
ATTACH;FMTTYPE=image/jpeg:https://rccgregina.org/wp-content/uploads/2020/07/Joyfu-1-scaled.jpg
END:VEVENT
BEGIN:VEVENT
DTSTART;TZID=America/Regina:20250625T190000
DTEND;TZID=America/Regina:20250625T210000
DTSTAMP:20260424T043732
CREATED:20250531T050549Z
LAST-MODIFIED:20250531T050549Z
UID:11175-1750878000-1750885200@rccgregina.org
SUMMARY:Prayer Meeting
DESCRIPTION:Come expectant\, come ready—God is moving\, and miracles happen when we pray! Bring your family\, invite a friend\, and let’s seek His presence together. \n🔥 “The earnest prayer of a righteous person has great power and produces wonderful results.” – James 5:16
URL:https://rccgregina.org/event/prayer-meeting-2/
LOCATION:Church Auditorium\, 1171 Broder St\, REGINA\, SK\, S4N 3R1\, Canada
ATTACH;FMTTYPE=image/png:https://rccgregina.org/wp-content/uploads/2025/04/PrayerMeeting.png
END:VEVENT
BEGIN:VEVENT
DTSTART;TZID=America/Regina:20250622T090000
DTEND;TZID=America/Regina:20250622T123000
DTSTAMP:20260424T043732
CREATED:20250531T051956Z
LAST-MODIFIED:20250531T051956Z
UID:11187-1750582800-1750595400@rccgregina.org
SUMMARY:Sunday Service - Excellent Men Thanksgiving
DESCRIPTION:Join us this Sunday for a time of worship\, uplifting messages\, and fellowship as we celebrate with the excellent men fellowship.
URL:https://rccgregina.org/event/sunday-service-excellent-men-thanksgiving/
LOCATION:Church Auditorium\, 1171 Broder St\, REGINA\, SK\, S4N 3R1\, Canada
ATTACH;FMTTYPE=image/jpeg:https://rccgregina.org/wp-content/uploads/2024/12/church-1@0.75x@0.75x.jpg
END:VEVENT
BEGIN:VEVENT
DTSTART;TZID=America/Regina:20250618T193000
DTEND;TZID=America/Regina:20250618T210000
DTSTAMP:20260424T043732
CREATED:20250531T045728Z
LAST-MODIFIED:20250531T045728Z
UID:11172-1750275000-1750280400@rccgregina.org
SUMMARY:Bible Study
DESCRIPTION:Join us for an inspiring journey through God’s Word! Together\, we’ll explore life-changing truths\, find answers to pressing questions\, and deepen our relationship with Christ. Don’t miss this time of growth and fellowship!.
URL:https://rccgregina.org/event/bible-study-9/
LOCATION:Church Auditorium\, 1171 Broder St\, REGINA\, SK\, S4N 3R1\, Canada
ATTACH;FMTTYPE=image/jpeg:https://rccgregina.org/wp-content/uploads/2024/12/bible-study-e1734657902949.jpg
END:VEVENT
BEGIN:VEVENT
DTSTART;TZID=America/Regina:20250615T090000
DTEND;TZID=America/Regina:20250615T123000
DTSTAMP:20260424T043732
CREATED:20250531T051511Z
LAST-MODIFIED:20250531T051511Z
UID:11184-1749978000-1749990600@rccgregina.org
SUMMARY:Sunday Service
DESCRIPTION:Join us this Sunday for a time of worship\, uplifting messages\, and fellowship. Let’s grow together in faith and experience God’s love in a fresh way. All are welcome!
URL:https://rccgregina.org/event/sunday-service-11/
LOCATION:Church Auditorium\, 1171 Broder St\, REGINA\, SK\, S4N 3R1\, Canada
ATTACH;FMTTYPE=image/jpeg:https://rccgregina.org/wp-content/uploads/2024/12/church-1@0.75x@0.75x.jpg
END:VEVENT
BEGIN:VEVENT
DTSTART;TZID=America/Regina:20250611T193000
DTEND;TZID=America/Regina:20250611T210000
DTSTAMP:20260424T043732
CREATED:20250531T045313Z
LAST-MODIFIED:20250531T045410Z
UID:11167-1749670200-1749675600@rccgregina.org
SUMMARY:Bible Study
DESCRIPTION:Join us for an inspiring journey through God’s Word! Together\, we’ll explore life-changing truths\, find answers to pressing questions\, and deepen our relationship with Christ. Don’t miss this time of growth and fellowship!.
URL:https://rccgregina.org/event/bible-study-8/
LOCATION:Church Auditorium\, 1171 Broder St\, REGINA\, SK\, S4N 3R1\, Canada
ATTACH;FMTTYPE=image/jpeg:https://rccgregina.org/wp-content/uploads/2024/12/bible-study-e1734657902949.jpg
END:VEVENT
BEGIN:VEVENT
DTSTART;TZID=America/Regina:20250608T090000
DTEND;TZID=America/Regina:20250608T123000
DTSTAMP:20260424T043732
CREATED:20250531T051328Z
LAST-MODIFIED:20250531T051328Z
UID:11181-1749373200-1749385800@rccgregina.org
SUMMARY:Sunday Service
DESCRIPTION:Join us this Sunday for a time of worship\, uplifting messages\, and fellowship. Let’s grow together in faith and experience God’s love in a fresh way. All are welcome!
URL:https://rccgregina.org/event/sunday-service-10/
LOCATION:Church Auditorium\, 1171 Broder St\, REGINA\, SK\, S4N 3R1\, Canada
ATTACH;FMTTYPE=image/jpeg:https://rccgregina.org/wp-content/uploads/2024/12/church-1@0.75x@0.75x.jpg
END:VEVENT
BEGIN:VEVENT
DTSTART;TZID=America/Regina:20250604T193000
DTEND;TZID=America/Regina:20250604T210000
DTSTAMP:20260424T043732
CREATED:20250531T043628Z
LAST-MODIFIED:20250531T045538Z
UID:11163-1749065400-1749070800@rccgregina.org
SUMMARY:Holy Communion June 4 @ 7:30 pm - 9:00 pm
DESCRIPTION:Join Us for a Supernatural Encounter at Holy Communion \nCome and experience the grace\, love\, and power of Christ at our Holy Communion Service. As we partake in the Lord’s Table\, we remember His sacrifice\, renew our faith\, and receive spiritual strength for the journey ahead. \n“Do this in remembrance of Me.” – Luke 22:19 \nAll are welcome to this divine fellowship. Come with expectation\, leave refreshed and empowered! \nWe look forward to sharing this sacred moment with you! 🙏✨
URL:https://rccgregina.org/event/holy-communion-june-4-730-pm-900-pm/
LOCATION:Church Auditorium\, 1171 Broder St\, REGINA\, SK\, S4N 3R1\, Canada
ATTACH;FMTTYPE=image/jpeg:https://rccgregina.org/wp-content/uploads/2025/02/HolyCommunion.jpg
END:VEVENT
BEGIN:VEVENT
DTSTART;TZID=America/Regina:20250601T100000
DTEND;TZID=America/Regina:20250601T130000
DTSTAMP:20260424T043732
CREATED:20250513T061117Z
LAST-MODIFIED:20250513T061333Z
UID:11157-1748772000-1748782800@rccgregina.org
SUMMARY:Divine Empowerment (Impartation Service)
DESCRIPTION:Day 3: Impartation Service – “I AM That I AM”Receive the mantle! Join us for our Impartation Service as we lay hands and release the fullness of God’s Spirit. Expect divine gifts\, fresh anointing\, and life-changing encounters.
URL:https://rccgregina.org/event/divine-empowerment-impartation-service/
LOCATION:Church Auditorium\, 1171 Broder St\, REGINA\, SK\, S4N 3R1\, Canada
CATEGORIES:ministry
ATTACH;FMTTYPE=image/jpeg:https://rccgregina.org/wp-content/uploads/2025/05/day-3.jpg
END:VEVENT
BEGIN:VEVENT
DTSTART;TZID=America/Regina:20250531T183000
DTEND;TZID=America/Regina:20250531T210000
DTSTAMP:20260424T043732
CREATED:20250513T060151Z
LAST-MODIFIED:20250513T060728Z
UID:11153-1748716200-1748725200@rccgregina.org
SUMMARY:Divine Empowerment (Apostolic Hour)
DESCRIPTION:Day 2: Apostolic Hour – “I AM That I AM”Step into your inheritance! Join us for Apostolic Hour as we declare God’s unchanging presence and power in our lives. Come ready to receive apostolic insight and bold faith
URL:https://rccgregina.org/event/divine-empowerment-apostolic-hour/
LOCATION:Church Auditorium\, 1171 Broder St\, REGINA\, SK\, S4N 3R1\, Canada
CATEGORIES:ministry
ATTACH;FMTTYPE=image/jpeg:https://rccgregina.org/wp-content/uploads/2025/05/day-2.jpg
END:VEVENT
BEGIN:VEVENT
DTSTART;TZID=America/Regina:20250530T183000
DTEND;TZID=America/Regina:20250530T210000
DTSTAMP:20260424T043732
CREATED:20250512T222008Z
LAST-MODIFIED:20250513T033721Z
UID:11146-1748629800-1748638800@rccgregina.org
SUMMARY:Divine Empowerment (Encounter Hour)
DESCRIPTION:Join us for Day 1 of Divine Empowerment!Experience powerful worship\, life-transforming messages\, and a fresh encounter with God. Don’t miss this divine appointment—your breakthrough starts here!
URL:https://rccgregina.org/event/divine-empowerment-day-1/
LOCATION:Church Auditorium\, 1171 Broder St\, REGINA\, SK\, S4N 3R1\, Canada
CATEGORIES:ministry
ATTACH;FMTTYPE=image/jpeg:https://rccgregina.org/wp-content/uploads/2024/11/475012590_998337002318625_3189939558973346722_n.jpg
END:VEVENT
BEGIN:VEVENT
DTSTART;TZID=America/Regina:20250528T193000
DTEND;TZID=America/Regina:20250528T210000
DTSTAMP:20260424T043732
CREATED:20250429T023624Z
LAST-MODIFIED:20250429T023625Z
UID:11126-1748460600-1748466000@rccgregina.org
SUMMARY:Prayer Meeting
DESCRIPTION:
URL:https://rccgregina.org/event/prayer-meeting/
LOCATION:SK
ATTACH;FMTTYPE=image/png:https://rccgregina.org/wp-content/uploads/2025/04/PrayerMeeting.png
END:VEVENT
BEGIN:VEVENT
DTSTART;TZID=America/Regina:20250525T090000
DTEND;TZID=America/Regina:20250525T123000
DTSTAMP:20260424T043732
CREATED:20250429T020539Z
LAST-MODIFIED:20250429T020539Z
UID:11121-1748163600-1748176200@rccgregina.org
SUMMARY:Sunday Service
DESCRIPTION:Join us this Sunday for a time of worship\, uplifting messages\, and fellowship. Let’s grow together in faith and experience God’s love in a fresh way. All are welcome!
URL:https://rccgregina.org/event/sunday-service-9/
LOCATION:Church Auditorium\, 1171 Broder St\, REGINA\, SK\, S4N 3R1\, Canada
CATEGORIES:ministry
ATTACH;FMTTYPE=image/png:https://rccgregina.org/wp-content/uploads/2025/04/SundayService.png
END:VEVENT
BEGIN:VEVENT
DTSTART;TZID=America/Regina:20250521T193000
DTEND;TZID=America/Regina:20250521T210000
DTSTAMP:20260424T043732
CREATED:20250429T024005Z
LAST-MODIFIED:20250429T024005Z
UID:11129-1747855800-1747861200@rccgregina.org
SUMMARY:Bible Study
DESCRIPTION:Join us for an inspiring journey through God’s Word! Together\, we’ll explore life-changing truths\, find answers to pressing questions\, and deepen our relationship with Christ. Don’t miss this time of growth and fellowship!.
URL:https://rccgregina.org/event/bible-study-6/
LOCATION:Church Auditorium\, 1171 Broder St\, REGINA\, SK\, S4N 3R1\, Canada
ATTACH;FMTTYPE=image/jpeg:https://rccgregina.org/wp-content/uploads/2024/12/bible-study-e1734657902949.jpg
END:VEVENT
BEGIN:VEVENT
DTSTART;TZID=America/Regina:20250518T090000
DTEND;TZID=America/Regina:20250518T123000
DTSTAMP:20260424T043732
CREATED:20250223T035848Z
LAST-MODIFIED:20250429T024032Z
UID:10977-1747558800-1747571400@rccgregina.org
SUMMARY:Sunday Service
DESCRIPTION:Join us this Sunday for a time of worship\, uplifting messages\, and fellowship. Let’s grow together in faith and experience God’s love in a fresh way. All are welcome!
URL:https://rccgregina.org/event/sunday-service-6/
LOCATION:Church Auditorium\, 1171 Broder St\, REGINA\, SK\, S4N 3R1\, Canada
CATEGORIES:ministry
ATTACH;FMTTYPE=image/jpeg:https://rccgregina.org/wp-content/uploads/2023/10/church5b.jpg
END:VEVENT
BEGIN:VEVENT
DTSTART;TZID=America/Regina:20250516T230000
DTEND;TZID=America/Regina:20250517T013000
DTSTAMP:20260424T043732
CREATED:20250429T021201Z
LAST-MODIFIED:20250429T023350Z
UID:11124-1747436400-1747445400@rccgregina.org
SUMMARY:Night Vigil
DESCRIPTION:Join Us for a Powerful Night of Prayer! 🙏✨ \nAre you longing for a breakthrough\, seeking divine direction\, or simply hungry for more of God? Don’t miss our upcoming Prayer Vigil! \nCome expectant\, come ready—God is moving\, and miracles happen when we pray! Bring your family\, invite a friend\, and let’s seek His presence together. \n🔥 “The earnest prayer of a righteous person has great power and produces wonderful results.” – James 5:16
URL:https://rccgregina.org/event/night-vigil-2/
LOCATION:Church Auditorium\, 1171 Broder St\, REGINA\, SK\, S4N 3R1\, Canada
ATTACH;FMTTYPE=image/png:https://rccgregina.org/wp-content/uploads/2025/02/Prayer-vigil.png
END:VEVENT
BEGIN:VEVENT
DTSTART;TZID=America/Regina:20250514T193000
DTEND;TZID=America/Regina:20250514T210000
DTSTAMP:20260424T043732
CREATED:20241220T012716Z
LAST-MODIFIED:20250429T024055Z
UID:10674-1747251000-1747256400@rccgregina.org
SUMMARY:Bible Study
DESCRIPTION:Join us for an inspiring journey through God’s Word! Together\, we’ll explore life-changing truths\, find answers to pressing questions\, and deepen our relationship with Christ. Don’t miss this time of growth and fellowship!.
URL:https://rccgregina.org/event/bible-study-5/
LOCATION:Church Auditorium\, 1171 Broder St\, REGINA\, SK\, S4N 3R1\, Canada
ATTACH;FMTTYPE=image/jpeg:https://rccgregina.org/wp-content/uploads/2024/12/bible-study-e1734657902949.jpg
END:VEVENT
END:VCALENDAR