BEGIN:VCALENDAR
VERSION:2.0
PRODID:-//RCCG Mount Zion Parish, Regina Saskatchewan, Canada - ECPv6.15.20//NONSGML v1.0//EN
CALSCALE:GREGORIAN
METHOD:PUBLISH
X-WR-CALNAME:RCCG Mount Zion Parish, Regina Saskatchewan, Canada
X-ORIGINAL-URL:https://rccgregina.org
X-WR-CALDESC:Events for RCCG Mount Zion Parish, Regina Saskatchewan, Canada
REFRESH-INTERVAL;VALUE=DURATION:PT1H
X-Robots-Tag:noindex
X-PUBLISHED-TTL:PT1H
BEGIN:VTIMEZONE
TZID:America/Regina
BEGIN:STANDARD
TZOFFSETFROM:-0600
TZOFFSETTO:-0600
TZNAME:CST
DTSTART:20160101T000000
END:STANDARD
END:VTIMEZONE
BEGIN:VEVENT
DTSTART;TZID=America/Regina:20180713T080000
DTEND;TZID=America/Regina:20180715T170000
DTSTAMP:20260425T060724
CREATED:20180701T071620Z
LAST-MODIFIED:20180701T071620Z
UID:8749-1531468800-1531674000@rccgregina.org
SUMMARY:Children Weekend
DESCRIPTION:
URL:https://rccgregina.org/event/children-weekend/
LOCATION:SK
END:VEVENT
BEGIN:VEVENT
DTSTART;TZID=America/Regina:20180701T080000
DTEND;TZID=America/Regina:20180721T170000
DTSTAMP:20260425T060724
CREATED:20180701T071824Z
LAST-MODIFIED:20180701T071824Z
UID:8754-1530432000-1532192400@rccgregina.org
SUMMARY:Prayer and Fasting
DESCRIPTION:
URL:https://rccgregina.org/event/prayer-and-fasting/
LOCATION:SK
END:VEVENT
BEGIN:VEVENT
DTSTART;TZID=America/Regina:20180603T100000
DTEND;TZID=America/Regina:20180603T123000
DTSTAMP:20260425T060724
CREATED:20180602T163938Z
LAST-MODIFIED:20180602T163938Z
UID:8731-1528020000-1528029000@rccgregina.org
SUMMARY:Thanksgiving Service and Prophetic Impartation
DESCRIPTION:
URL:https://rccgregina.org/event/thanksgiving-service-and-prophetic-impartation/
LOCATION:Church Auditorium\, 1171 Broder St\, REGINA\, SK\, S4N 3R1\, Canada
ATTACH;FMTTYPE=:
END:VEVENT
BEGIN:VEVENT
DTSTART;TZID=America/Regina:20180526T080000
DTEND;TZID=America/Regina:20180526T180000
DTSTAMP:20260425T060724
CREATED:20180502T060608Z
LAST-MODIFIED:20180502T060608Z
UID:8720-1527321600-1527357600@rccgregina.org
SUMMARY:Musical Concert and Awards Night
DESCRIPTION:
URL:https://rccgregina.org/event/musical-concert-2/
LOCATION:Church Auditorium\, 1171 Broder St\, REGINA\, SK\, S4N 3R1\, Canada
END:VEVENT
BEGIN:VEVENT
DTSTART;TZID=America/Regina:20180502T193000
DTEND;TZID=America/Regina:20180502T211500
DTSTAMP:20260425T060724
CREATED:20180402T222107Z
LAST-MODIFIED:20180402T222107Z
UID:8700-1525289400-1525295700@rccgregina.org
SUMMARY:Holy Communion Service
DESCRIPTION:
URL:https://rccgregina.org/event/holy-communion-service/
LOCATION:Church Auditorium\, 1171 Broder St\, REGINA\, SK\, S4N 3R1\, Canada
END:VEVENT
BEGIN:VEVENT
DTSTART;TZID=America/Regina:20180420T230000
DTEND;TZID=America/Regina:20180421T020000
DTSTAMP:20260425T060724
CREATED:20180304T040011Z
LAST-MODIFIED:20180304T040011Z
UID:8646-1524265200-1524276000@rccgregina.org
SUMMARY:Vigil/Power Night
DESCRIPTION:
URL:https://rccgregina.org/event/vigil-power-night/
LOCATION:Church Auditorium\, 1171 Broder St\, REGINA\, SK\, S4N 3R1\, Canada
END:VEVENT
BEGIN:VEVENT
DTSTART;TZID=America/Regina:20180325T100000
DTEND;TZID=America/Regina:20180325T121500
DTSTAMP:20260425T060724
CREATED:20180324T234514Z
LAST-MODIFIED:20180324T234514Z
UID:8691-1521972000-1521980100@rccgregina.org
SUMMARY:Power Sunday
DESCRIPTION:
URL:https://rccgregina.org/event/power-sunday/
LOCATION:Church Auditorium\, 1171 Broder St\, REGINA\, SK\, S4N 3R1\, Canada
CATEGORIES:ministry
ATTACH;FMTTYPE=:
END:VEVENT
BEGIN:VEVENT
DTSTART;TZID=America/Regina:20180311T100000
DTEND;TZID=America/Regina:20180311T123000
DTSTAMP:20260425T060724
CREATED:20180304T035833Z
LAST-MODIFIED:20180304T035833Z
UID:8644-1520762400-1520771400@rccgregina.org
SUMMARY:Church Potluk
DESCRIPTION:
URL:https://rccgregina.org/event/church-potluk/
LOCATION:Church Auditorium\, 1171 Broder St\, REGINA\, SK\, S4N 3R1\, Canada
CATEGORIES:ministry
END:VEVENT
BEGIN:VEVENT
DTSTART;TZID=America/Regina:20180310T170000
DTEND;TZID=America/Regina:20180310T193000
DTSTAMP:20260425T060724
CREATED:20180304T040204Z
LAST-MODIFIED:20180304T040204Z
UID:8648-1520701200-1520710200@rccgregina.org
SUMMARY:Men's Connect
DESCRIPTION:
URL:https://rccgregina.org/event/mens-connect/
LOCATION:Dr Adanlawo’s House
END:VEVENT
BEGIN:VEVENT
DTSTART;TZID=America/Regina:20180304T100000
DTEND;TZID=America/Regina:20180304T121500
DTSTAMP:20260425T060724
CREATED:20170401T202006Z
LAST-MODIFIED:20170401T202006Z
UID:8460-1520157600-1520165700@rccgregina.org
SUMMARY:Celebration Thanksgiving Service
DESCRIPTION:
URL:https://rccgregina.org/event/celebration-thanksgiving-service/
LOCATION:Church Auditorium\, 1171 Broder St\, REGINA\, SK\, S4N 3R1\, Canada
ATTACH;FMTTYPE=:
END:VEVENT
BEGIN:VEVENT
DTSTART;TZID=America/Regina:20180216T230000
DTEND;TZID=America/Regina:20180217T020000
DTSTAMP:20260425T060724
CREATED:20170401T202540Z
LAST-MODIFIED:20170401T202540Z
UID:8462-1518822000-1518832800@rccgregina.org
SUMMARY:Vigil
DESCRIPTION:
URL:https://rccgregina.org/event/vigil-2/
LOCATION:SK
ATTACH;FMTTYPE=:
END:VEVENT
BEGIN:VEVENT
DTSTART;TZID=America/Regina:20180214T180000
DTEND;TZID=America/Regina:20180214T220000
DTSTAMP:20260425T060724
CREATED:20170204T224035Z
LAST-MODIFIED:20170204T224035Z
UID:8436-1518631200-1518645600@rccgregina.org
SUMMARY:Love Night
DESCRIPTION:
URL:https://rccgregina.org/event/love-night/
LOCATION:Church Auditorium\, 1171 Broder St\, REGINA\, SK\, S4N 3R1\, Canada
ATTACH;FMTTYPE=:
END:VEVENT
BEGIN:VEVENT
DTSTART;TZID=America/Regina:20180107T100000
DTEND;TZID=America/Regina:20180107T121500
DTSTAMP:20260425T060724
CREATED:20180106T033003Z
LAST-MODIFIED:20180106T033003Z
UID:8621-1515319200-1515327300@rccgregina.org
SUMMARY:1st Thanksgiving and Celebration Service
DESCRIPTION:
URL:https://rccgregina.org/event/1st-thanksgiving-and-celebration-service/
LOCATION:Church Auditorium\, 1171 Broder St\, REGINA\, SK\, S4N 3R1\, Canada
ATTACH;FMTTYPE=:
END:VEVENT
BEGIN:VEVENT
DTSTART;TZID=America/Regina:20171231T220000
DTEND;TZID=America/Regina:20180101T001500
DTSTAMP:20260425T060724
CREATED:20171204T000944Z
LAST-MODIFIED:20171204T000944Z
UID:8608-1514757600-1514765700@rccgregina.org
SUMMARY:CROSSOVER NIGHT
DESCRIPTION:
URL:https://rccgregina.org/event/crossover-night/
LOCATION:SK
ATTACH;FMTTYPE=:
END:VEVENT
BEGIN:VEVENT
DTSTART;TZID=America/Regina:20170827T090000
DTEND;TZID=America/Regina:20170827T121500
DTSTAMP:20260425T060724
CREATED:20170808T062602Z
LAST-MODIFIED:20170808T062602Z
UID:8565-1503824400-1503836100@rccgregina.org
SUMMARY:Couple's Night
DESCRIPTION:
URL:https://rccgregina.org/event/couplesnigth/
LOCATION:Church Auditorium\, 1171 Broder St\, REGINA\, SK\, S4N 3R1\, Canada
END:VEVENT
BEGIN:VEVENT
DTSTART;TZID=America/Regina:20170820T090000
DTEND;TZID=America/Regina:20170820T121500
DTSTAMP:20260425T060724
CREATED:20170808T062913Z
LAST-MODIFIED:20170808T062913Z
UID:8568-1503219600-1503231300@rccgregina.org
SUMMARY:Youth Sunday
DESCRIPTION:
URL:https://rccgregina.org/event/youth-sunday-2/
LOCATION:Church Auditorium\, 1171 Broder St\, REGINA\, SK\, S4N 3R1\, Canada
END:VEVENT
BEGIN:VEVENT
DTSTART;VALUE=DATE:20170724
DTEND;VALUE=DATE:20170731
DTSTAMP:20260425T060724
CREATED:20170703T020552Z
LAST-MODIFIED:20170703T020552Z
UID:8545-1500854400-1501459199@rccgregina.org
SUMMARY:Women's Week
DESCRIPTION:
URL:https://rccgregina.org/event/womens-week/
LOCATION:SK
END:VEVENT
BEGIN:VEVENT
DTSTART;VALUE=DATE:20170723
DTEND;VALUE=DATE:20170724
DTSTAMP:20260425T060724
CREATED:20170703T020503Z
LAST-MODIFIED:20170703T020503Z
UID:8543-1500768000-1500854399@rccgregina.org
SUMMARY:Youth Sunday
DESCRIPTION:
URL:https://rccgregina.org/event/youth-sunday/
LOCATION:SK
END:VEVENT
BEGIN:VEVENT
DTSTART;VALUE=DATE:20170712
DTEND;VALUE=DATE:20170717
DTSTAMP:20260425T060724
CREATED:20170703T020407Z
LAST-MODIFIED:20170703T020407Z
UID:8541-1499817600-1500249599@rccgregina.org
SUMMARY:Children's Week
DESCRIPTION:
URL:https://rccgregina.org/event/childrens-week/
LOCATION:SK
END:VEVENT
BEGIN:VEVENT
DTSTART;VALUE=DATE:20170705
DTEND;VALUE=DATE:20170710
DTSTAMP:20260425T060724
CREATED:20170703T020308Z
LAST-MODIFIED:20170703T020308Z
UID:8539-1499212800-1499644799@rccgregina.org
SUMMARY:Teenager's Weekend
DESCRIPTION:
URL:https://rccgregina.org/event/teenagers-weekend/
LOCATION:SK
END:VEVENT
BEGIN:VEVENT
DTSTART;VALUE=DATE:20170701
DTEND;VALUE=DATE:20170704
DTSTAMP:20260425T060724
CREATED:20170703T020207Z
LAST-MODIFIED:20170703T020207Z
UID:8537-1498867200-1499126399@rccgregina.org
SUMMARY:Monthly Prayer and Fasting
DESCRIPTION:
URL:https://rccgregina.org/event/monthly-prayer-fasting/
LOCATION:SK
END:VEVENT
BEGIN:VEVENT
DTSTART;TZID=America/Regina:20170617T080000
DTEND;TZID=America/Regina:20170618T121500
DTSTAMP:20260425T060724
CREATED:20170528T190701Z
LAST-MODIFIED:20170528T190701Z
UID:8518-1497686400-1497788100@rccgregina.org
SUMMARY:2017 Men's Week
DESCRIPTION:Theme: \nThe Dignified Man\nRom 12: 9 -18
URL:https://rccgregina.org/event/2017-mens-week/
LOCATION:SK
END:VEVENT
BEGIN:VEVENT
DTSTART;TZID=America/Regina:20170528T100000
DTEND;TZID=America/Regina:20170528T121500
DTSTAMP:20260425T060724
CREATED:20170525T125142Z
LAST-MODIFIED:20170525T125142Z
UID:8515-1495965600-1495973700@rccgregina.org
SUMMARY:Apostolic Sunday
DESCRIPTION:
URL:https://rccgregina.org/event/apostolic-sunday/
LOCATION:Church Auditorium\, 1171 Broder St\, REGINA\, SK\, S4N 3R1\, Canada
ATTACH;FMTTYPE=:
END:VEVENT
BEGIN:VEVENT
DTSTART;TZID=America/Regina:20170513T180000
DTEND;TZID=America/Regina:20170513T210000
DTSTAMP:20260425T060724
CREATED:20170425T032739Z
LAST-MODIFIED:20170425T032739Z
UID:8496-1494698400-1494709200@rccgregina.org
SUMMARY:Musical Concert
DESCRIPTION:
URL:https://rccgregina.org/event/musical-concert/
LOCATION:Church Auditorium\, 1171 Broder St\, REGINA\, SK\, S4N 3R1\, Canada
ATTACH;FMTTYPE=:
END:VEVENT
BEGIN:VEVENT
DTSTART;VALUE=DATE:20170512
DTEND;VALUE=DATE:20170515
DTSTAMP:20260425T060724
CREATED:20170425T033335Z
LAST-MODIFIED:20170425T033335Z
UID:8499-1494547200-1494806399@rccgregina.org
SUMMARY:2017 Divine Empowerment
DESCRIPTION:        Theme: Great Grace  – Acts 4:33\n\n\nMinistering:\n                                 Pastor Ayodele Adejumobi\n                                 Provincial Pastor\n                                 NAR 10 Province 3\n\n\n                  Friday May 12  @ 10.00pm – 2.00am – Encounter Hour\n                  Saturday May 13 @ 6..0pm -9.00pm – Musical Concert\n                  Sunday May 14  @ 10.00am – 1.00pm – Impartation Service
URL:https://rccgregina.org/event/2017-divine-empowerment/
LOCATION:Church Auditorium\, 1171 Broder St\, REGINA\, SK\, S4N 3R1\, Canada
ATTACH;FMTTYPE=:
END:VEVENT
BEGIN:VEVENT
DTSTART;TZID=America/Regina:20170421T220000
DTEND;TZID=America/Regina:20170422T020000
DTSTAMP:20260425T060724
CREATED:20170422T050001Z
LAST-MODIFIED:20170422T050001Z
UID:8266-1492812000-1492826400@rccgregina.org
SUMMARY:Vigil
DESCRIPTION:
URL:https://rccgregina.org/event/vigil/
LOCATION:Church Auditorium\, 1171 Broder St\, REGINA\, SK\, S4N 3R1\, Canada
CATEGORIES:ministry
END:VEVENT
BEGIN:VEVENT
DTSTART;TZID=America/Regina:20170416T100000
DTEND;TZID=America/Regina:20170416T121500
DTSTAMP:20260425T060724
CREATED:20170402T130508Z
LAST-MODIFIED:20170402T130508Z
UID:7899-1492336800-1492344900@rccgregina.org
SUMMARY:Easter Celebration Service
DESCRIPTION:
URL:https://rccgregina.org/event/celebration-service/
LOCATION:Church Auditorium\, 1171 Broder St\, REGINA\, SK\, S4N 3R1\, Canada
CATEGORIES:ministry
END:VEVENT
BEGIN:VEVENT
DTSTART;TZID=America/Regina:20170412T193000
DTEND;TZID=America/Regina:20170412T210000
DTSTAMP:20260425T060724
CREATED:20170401T202847Z
LAST-MODIFIED:20170401T202847Z
UID:8465-1492025400-1492030800@rccgregina.org
SUMMARY:Bible Study
DESCRIPTION:
URL:https://rccgregina.org/event/bible-study-2/
LOCATION:SK
ATTACH;FMTTYPE=:
END:VEVENT
BEGIN:VEVENT
DTSTART;TZID=America/Regina:20170308T193000
DTEND;TZID=America/Regina:20170308T210000
DTSTAMP:20260425T060724
CREATED:20161012T153319Z
LAST-MODIFIED:20161012T153319Z
UID:8265-1489001400-1489006800@rccgregina.org
SUMMARY:Prayer Meeting/Faith Clinic
DESCRIPTION:
URL:https://rccgregina.org/event/bible-studyfaith-clinic/
LOCATION:Church Auditorium\, 1171 Broder St\, REGINA\, SK\, S4N 3R1\, Canada
ATTACH;FMTTYPE=:
END:VEVENT
BEGIN:VEVENT
DTSTART;TZID=America/Regina:20170101T100000
DTEND;TZID=America/Regina:20170101T121500
DTSTAMP:20260425T060724
CREATED:20161207T010849Z
LAST-MODIFIED:20161207T010849Z
UID:8334-1483264800-1483272900@rccgregina.org
SUMMARY:Thanksgiving Service (New Cruse)
DESCRIPTION:
URL:https://rccgregina.org/event/new-cruise-thanksgiving-service/
LOCATION:Church Auditorium\, 1171 Broder St\, REGINA\, SK\, S4N 3R1\, Canada
ATTACH;FMTTYPE=:
END:VEVENT
END:VCALENDAR