BEGIN:VCALENDAR
VERSION:2.0
PRODID:-//RCCG Mount Zion Parish, Regina Saskatchewan, Canada - ECPv6.15.20//NONSGML v1.0//EN
CALSCALE:GREGORIAN
METHOD:PUBLISH
X-ORIGINAL-URL:https://rccgregina.org
X-WR-CALDESC:Events for RCCG Mount Zion Parish, Regina Saskatchewan, Canada
REFRESH-INTERVAL;VALUE=DURATION:PT1H
X-Robots-Tag:noindex
X-PUBLISHED-TTL:PT1H
BEGIN:VTIMEZONE
TZID:America/Regina
BEGIN:STANDARD
TZOFFSETFROM:-0600
TZOFFSETTO:-0600
TZNAME:CST
DTSTART:20250101T000000
END:STANDARD
END:VTIMEZONE
BEGIN:VEVENT
DTSTART;TZID=America/Regina:20260201T060000
DTEND;TZID=America/Regina:20260302T180000
DTSTAMP:20260423T183527
CREATED:20260201T035635Z
LAST-MODIFIED:20260201T035635Z
UID:11562-1769925600-1772474400@rccgregina.org
SUMMARY:30-DAY ANNUAL RCCG PRAYER & FASTING
DESCRIPTION:30-DAY ANNUAL RCCG PRAYER & FASTING
URL:https://rccgregina.org/event/30-day-annual-rccg-prayer-fasting/
LOCATION:Church Auditorium\, 1171 Broder St\, REGINA\, SK\, S4N 3R1\, Canada
ATTACH;FMTTYPE=image/jpeg:https://rccgregina.org/wp-content/uploads/2025/11/prayer.jpg
END:VEVENT
BEGIN:VEVENT
DTSTART;TZID=America/Regina:20260201T090000
DTEND;TZID=America/Regina:20260201T123000
DTSTAMP:20260423T183527
CREATED:20251019T155129Z
LAST-MODIFIED:20260131T193010Z
UID:11433-1769936400-1769949000@rccgregina.org
SUMMARY:Thanksgiving Service
DESCRIPTION:You’re warmly invited to our Thanksgiving Sunday Service! Join us as we come together to celebrate God’s faithfulness\, grace\, and countless blessings over the year. It’s a time of joyful praise\, heartfelt worship\, and gratitude for all that God has done and will continue to do in our lives. \nCome with your family and friends to experience a vibrant atmosphere filled with thanksgiving\, testimonies\, and uplifting messages that will inspire your heart. Let’s unite in love and appreciation as we lift our voices in praise and give all the glory to God. \nDate: February 1\, 2025Time: 9:00 AMLocation: 1171 Broder St\, Regina\, SK\, Canada \nDon’t miss this powerful celebration of gratitude!
URL:https://rccgregina.org/event/thanksgiving-service-7/
LOCATION:Church Auditorium\, 1171 Broder St\, REGINA\, SK\, S4N 3R1\, Canada
CATEGORIES:ministry
ATTACH;FMTTYPE=image/png:https://rccgregina.org/wp-content/uploads/2025/10/TG2b-1.png
END:VEVENT
BEGIN:VEVENT
DTSTART;TZID=America/Regina:20260204T193000
DTEND;TZID=America/Regina:20260204T210000
DTSTAMP:20260423T183527
CREATED:20260105T025833Z
LAST-MODIFIED:20260105T025833Z
UID:11528-1770233400-1770238800@rccgregina.org
SUMMARY:Holy Communion
DESCRIPTION:Join us for a life-changing Holy Communion Service!  \nCome experience God’s presence as we share in the body and blood of Christ and receive strength for the days ahead.
URL:https://rccgregina.org/event/holy-communion-8/
LOCATION:Church Auditorium\, 1171 Broder St\, REGINA\, SK\, S4N 3R1\, Canada
ATTACH;FMTTYPE=image/jpeg:https://rccgregina.org/wp-content/uploads/2024/12/HolyCommunion@0.3x.jpg
END:VEVENT
BEGIN:VEVENT
DTSTART;TZID=America/Regina:20260208T093000
DTEND;TZID=America/Regina:20260208T120000
DTSTAMP:20260423T183527
CREATED:20260125T033237Z
LAST-MODIFIED:20260125T033457Z
UID:11549-1770543000-1770552000@rccgregina.org
SUMMARY:Special Valentine Day Celebration
DESCRIPTION:Special Valentine Day Celebration \nThe Mathematics of LOVE\n“N = 100 × 10ⁿ”\n(God’s love multiplied without limit). THE APOGEE OF LOVE EXTRAVAGANZA ❤️ \nDate:\nSunday\, February 8\, 2026\nTime:930 AM \nPowered by the EXCELLENT MEN
URL:https://rccgregina.org/event/special-valentine-day-celebration/
LOCATION:Church Auditorium\, 1171 Broder St\, REGINA\, SK\, S4N 3R1\, Canada
CATEGORIES:ministry
ATTACH;FMTTYPE=image/png:https://rccgregina.org/wp-content/uploads/2026/01/Valentine-Tricaster.png
END:VEVENT
BEGIN:VEVENT
DTSTART;TZID=America/Regina:20260211T193000
DTEND;TZID=America/Regina:20260211T210000
DTSTAMP:20260423T183527
CREATED:20251123T034716Z
LAST-MODIFIED:20260201T035115Z
UID:11511-1770838200-1770843600@rccgregina.org
SUMMARY:Bible Study
DESCRIPTION:Join us for an inspiring journey through God’s Word! Together\, we’ll explore life-changing truths\, find answers to pressing questions\, and deepen our relationship with Christ. Don’t miss this time of growth and fellowship!.
URL:https://rccgregina.org/event/bible-study-15/
LOCATION:Church Auditorium\, 1171 Broder St\, REGINA\, SK\, S4N 3R1\, Canada
ATTACH;FMTTYPE=image/jpeg:https://rccgregina.org/wp-content/uploads/2024/12/bible-study-e1734657902949.jpg
END:VEVENT
BEGIN:VEVENT
DTSTART;TZID=America/Regina:20260215T090000
DTEND;TZID=America/Regina:20260215T120000
DTSTAMP:20260423T183527
CREATED:20260105T025112Z
LAST-MODIFIED:20260131T183215Z
UID:11531-1771146000-1771156800@rccgregina.org
SUMMARY:Celebration Service
DESCRIPTION:We warmly invite you to join us for a special Sunday Service on Sunday\, February 15th\, 2026. Let’s come together to give thanks for the blessings of the past year and celebrate with gratitude and joy. \nDate: February 15th\, 2026\nTime: 9:00 AM\nLocation: 1171 Broder St\, Regina\, SK\, Canada \nWe look forward to sharing this meaningful occasion with you and your loved ones.
URL:https://rccgregina.org/event/celebration-service-7/
LOCATION:SK
ATTACH;FMTTYPE=image/jpeg:https://rccgregina.org/wp-content/uploads/2025/11/service3.jpg
END:VEVENT
BEGIN:VEVENT
DTSTART;TZID=America/Regina:20260222T090000
DTEND;TZID=America/Regina:20260222T120000
DTSTAMP:20260423T183527
CREATED:20260105T024222Z
LAST-MODIFIED:20260201T034923Z
UID:11533-1771750800-1771761600@rccgregina.org
SUMMARY:Celebration Service
DESCRIPTION:We warmly invite you to join us for a special Sunday Service on Sunday\, February 22nd\, 2026. Let’s come together to give thanks for the blessings of the past year and celebrate with gratitude and joy. \nDate: February 22nd\, 2026\nTime: 9:00 AM\nLocation: 1171 Broder St\, Regina\, SK\, Canada \nWe look forward to sharing this meaningful occasion with you and your loved ones.
URL:https://rccgregina.org/event/celebration-service-6/
LOCATION:SK
ATTACH;FMTTYPE=image/jpeg:https://rccgregina.org/wp-content/uploads/2026/01/CS1.jpg
END:VEVENT
BEGIN:VEVENT
DTSTART;TZID=America/Regina:20260225T193000
DTEND;TZID=America/Regina:20260225T210000
DTSTAMP:20260423T183527
CREATED:20260205T142707Z
LAST-MODIFIED:20260205T142707Z
UID:11571-1772047800-1772053200@rccgregina.org
SUMMARY:Bible Study
DESCRIPTION:Join us for an inspiring journey through God’s Word! Together\, we’ll explore life-changing truths\, find answers to pressing questions\, and deepen our relationship with Christ. Don’t miss this time of growth and fellowship!.
URL:https://rccgregina.org/event/bible-study-17/
LOCATION:Church Auditorium\, 1171 Broder St\, REGINA\, SK\, S4N 3R1\, Canada
ATTACH;FMTTYPE=image/jpeg:https://rccgregina.org/wp-content/uploads/2024/12/bible-study-e1734657902949.jpg
END:VEVENT
END:VCALENDAR