BEGIN:VCALENDAR
VERSION:2.0
PRODID:-//RCCG Mount Zion Parish, Regina Saskatchewan, Canada - ECPv6.15.20//NONSGML v1.0//EN
CALSCALE:GREGORIAN
METHOD:PUBLISH
X-ORIGINAL-URL:https://rccgregina.org
X-WR-CALDESC:Events for RCCG Mount Zion Parish, Regina Saskatchewan, Canada
REFRESH-INTERVAL;VALUE=DURATION:PT1H
X-Robots-Tag:noindex
X-PUBLISHED-TTL:PT1H
BEGIN:VTIMEZONE
TZID:America/Regina
BEGIN:STANDARD
TZOFFSETFROM:-0600
TZOFFSETTO:-0600
TZNAME:CST
DTSTART:20250101T000000
END:STANDARD
END:VTIMEZONE
BEGIN:VEVENT
DTSTART;TZID=America/Regina:20260426T090000
DTEND;TZID=America/Regina:20260426T123000
DTSTAMP:20260423T151233
CREATED:20260205T145307Z
LAST-MODIFIED:20260325T050926Z
UID:11587-1777194000-1777206600@rccgregina.org
SUMMARY:Sunday Service
DESCRIPTION:Let’s worship together this Sunday! Come and be refreshed\, encouraged\, and filled with God’s peace as we gather in His presence. \n🕘 Time: 9:00 AM\n📍 Location: 1171 Broder St\, Regina\, SK \nCome expectant — God is set to do great things!
URL:https://rccgregina.org/event/sunday-service-28/
LOCATION:Church Auditorium\, 1171 Broder St\, REGINA\, SK\, S4N 3R1\, Canada
CATEGORIES:ministry
ATTACH;FMTTYPE=image/jpeg:https://rccgregina.org/wp-content/uploads/2026/02/mar15.jpg
END:VEVENT
BEGIN:VEVENT
DTSTART;TZID=America/Regina:20260429T193000
DTEND;TZID=America/Regina:20260429T210000
DTSTAMP:20260423T151233
CREATED:20260205T143835Z
LAST-MODIFIED:20260422T061943Z
UID:11580-1777491000-1777496400@rccgregina.org
SUMMARY:Bible Study
DESCRIPTION:Join us for an inspiring journey through God’s Word! Together\, we’ll explore life-changing truths\, find answers to pressing questions\, and deepen our relationship with Christ. Don’t miss this time of growth and fellowship!.
URL:https://rccgregina.org/event/bible-study-20/
LOCATION:Church Auditorium\, 1171 Broder St\, REGINA\, SK\, S4N 3R1\, Canada
ATTACH;FMTTYPE=image/jpeg:https://rccgregina.org/wp-content/uploads/2024/12/bible-study-e1734657902949.jpg
END:VEVENT
END:VCALENDAR